BEGIN:VCALENDAR
VERSION:2.0
PRODID:-//ChamberMaster//Event Calendar 2.0//EN
METHOD:PUBLISH
X-PUBLISHED-TTL:P3D
REFRESH-INTERVAL:P3D
CALSCALE:GREGORIAN
BEGIN:VEVENT
DTSTART:20250815T140000Z
DTEND:20250815T150500Z
X-MICROSOFT-CDO-ALLDAYEVENT:FALSE
SUMMARY:Roche Bobois Sofa Auction ***ONLINE ONLY***
DESCRIPTION:Roche Bobois Sofa Auction\nAugust 15th\, 2025\n\nClosing at 11:05 AM\n\nQuinn's Auction Galleries is proud to present the Roche Bobois Sectional Sofa Auction.\n\nPlease note 27% buyers premium for our auction.\n\n\n\nPlease email lori.taylor@quinnsauction.com for any payment questions. Email weekly@quinnsauction.com to schedule a preview appointment. \n\nREMOVAL BY APPOINTMENT ONLY.
X-ALT-DESC;FMTTYPE=text/html:<a href="https://quinnsauction.appspot.com/auctions/ASYg0hCN87uQSo4KqIfV/a/Roche-Bobois-Sectional-Sofa-Auction"><span style="font-size:14px"><strong>Roche Bobois Sofa Auction</strong></span></a>\n<p>August 15th\, 2025<br />\nClosing at 11:05 AM</p>\n\n<p>Quinn&#39\;s Auction Galleries is proud to present the Roche Bobois Sectional Sofa Auction.</p>\n\n<p><strong>Please note 27% buyers premium for our auction</strong>.<br />\n<br />\nPlease email lori.taylor@quinnsauction.com for any payment questions. Email weekly@quinnsauction.com to schedule a preview appointment.&nbsp\;</p>\n\n<p><strong>REMOVAL BY APPOINTMENT ONLY.</strong></p>\n
LOCATION:
UID:e.1250.81312
SEQUENCE:3
DTSTAMP:20260420T103102Z
URL:https://business.fallschurchchamber.org/events/details/roche-bobois-sofa-auction-online-only-81312
END:VEVENT

END:VCALENDAR
