BEGIN:VCALENDAR
VERSION:2.0
PRODID:-//ChamberMaster//Event Calendar 2.0//EN
METHOD:PUBLISH
X-PUBLISHED-TTL:P3D
REFRESH-INTERVAL:P3D
CALSCALE:GREGORIAN
BEGIN:VEVENT
DTSTART:20121013T140000Z
DTEND:20121013T180000Z
X-MICROSOFT-CDO-ALLDAYEVENT:FALSE
SUMMARY:Rocktoberfest
DESCRIPTION:Sislers is continuing its 75th anniversary celebration with the grand opening of its new outdoor living display!\n\n\n\nJoin us for homemade root beer from Mad Fox Brewing Co. and brats cooked by Classic Stonescaping\, designer of the display.\n\n\n\nFirst 25 attendees receive a special edition 75th Anniversary pint glass.
X-ALT-DESC;FMTTYPE=text/html:<span itemprop="description">Sislers is continuing its 75th anniversary celebration with the grand opening of its new outdoor living display!<br />\n<br />\nJoin us for homemade root beer from Mad Fox Brewing Co. and brats cooked by Classic Stonescaping\, designer of the display.<br />\n<br />\nFirst 25 attendees receive a special edition 75th Anniversary pint glass.</span>
LOCATION:7139 Lee Hwy\, Falls Church\, VA 22046
UID:e.1250.358
SEQUENCE:3
DTSTAMP:20260426T012329Z
URL:https://business.fallschurchchamber.org/events/details/rocktoberfest-10-13-2012-358
END:VEVENT

END:VCALENDAR
