BEGIN:VCALENDAR
VERSION:2.0
PRODID:-//ChamberMaster//Event Calendar 2.0//EN
METHOD:PUBLISH
X-PUBLISHED-TTL:P3D
REFRESH-INTERVAL:P3D
CALSCALE:GREGORIAN
BEGIN:VEVENT
DTSTART:20161007T000000Z
DTEND:20161007T020000Z
X-MICROSOFT-CDO-ALLDAYEVENT:FALSE
SUMMARY:Ruthless! The Musical
DESCRIPTION:Outer Critics Circle and Drama desk winner\, Ruthless! is a campy cult favorite. The beautiful and talented 8-year-old Tina Denmark will do ANYTHING to play the lead in the school play.... ANYTHING! Ruthless! famously spoofs Broadway musicals such as Gypsy and Mame\, as well as classic films like The Bad Seed and All About Eve. Ruthless! is a hilarious romp through the world of Broadway\, child acting\, parenthood\, and unbridled ambition.\nBook and Lyrics by Joel Paley\n\nMusic by Marvin Laird\n\nDirected by Matt Conner\nSponsored by Sislers Stone
X-ALT-DESC;FMTTYPE=text/html:<h2 style="text-align:left"><span style="font-size:12px">Outer Critics Circle and Drama desk winner\, <em>Ruthless!</em> is a campy cult favorite. The beautiful and talented 8-year-old Tina Denmark will do ANYTHING to play the lead in the school play.... ANYTHING! <em>Ruthless! </em>famously spoofs Broadway musicals such as <em>Gypsy</em> and<em> Mame</em>\, as well as classic films like <em>The Bad Seed</em> and<em> All About Eve. Ruthless!</em> is a hilarious romp through the world of Broadway\, child acting\, parenthood\, and unbridled ambition.</span></h2>\nBook and Lyrics by Joel Paley<br />\nMusic by Marvin Laird<br />\nDirected by Matt Conner\n<h2 style="text-align:left">Sponsored by Sislers Stone</h2>\n
LOCATION:Creative Cauldron\, 410 South Maple Ave\, Falls Church\, VA 22046
UID:e.1250.12304
SEQUENCE:3
DTSTAMP:20260422T153250Z
URL:https://business.fallschurchchamber.org/events/details/ruthless-10-06-2016-12304
END:VEVENT

END:VCALENDAR
