BEGIN:VCALENDAR
VERSION:2.0
PRODID:-//ChamberMaster//Event Calendar 2.0//EN
METHOD:PUBLISH
X-PUBLISHED-TTL:P3D
REFRESH-INTERVAL:P3D
CALSCALE:GREGORIAN
BEGIN:VEVENT
DTSTART:20250725T233000Z
DTEND:20250726T030000Z
X-MICROSOFT-CDO-ALLDAYEVENT:FALSE
SUMMARY:Sahel
DESCRIPTION:Created by Jean-Francis Varre - you saw him perform his AFROCIDADE show at the Cauldron - the Sahel band interprets musical genres influenced by African culture around the world. Reggae\, Samba\, Funana\, Salsa\, Zouk are all woven into Sahel's canvas of African rhythms. Inspired by tradition and delivered to move your feet\, your heart and your voices. Born to Senegalese and Cape Verdean parents\, Jean-Francis performs in English\, Spanish\, Portuguese and Wolof\, the language of Senegal. \n\nhttps://www.sahelofficial.com/?
X-ALT-DESC;FMTTYPE=text/html:<span style="color:rgb(44\, 54\, 58)\; font-family:oxygen\; font-size:12.6px">Created by Jean-Francis Varre - you saw him perform his AFROCIDADE show at the Cauldron - the Sahel band interprets musical genres influenced by African culture around the world.&nbsp\;Reggae\, Samba\, Funana\, Salsa\, Zouk are all woven into Sahel&#39\;s canvas of African rhythms. Inspired by tradition and delivered to move your feet\, your heart and your voices. Born to Senegalese and Cape Verdean&nbsp\;parents\, Jean-Francis performs in English\, Spanish\, Portuguese and Wolof\, the language of Senegal.&nbsp\;</span><br />\n<a href="https://www.sahelofficial.com/" style="color: rgb(72\, 51\, 83)\; transition: 200ms linear\; font-family: Oxygen\; font-size: 12.6px\;" target="_blank">https://www.sahelofficial.com/?</a>
LOCATION:Creative Cauldron 127 E Broad St.\, Falls Church\, VA 22046
UID:e.1250.80999
SEQUENCE:3
DTSTAMP:20260420T121844Z
URL:https://business.fallschurchchamber.org/events/details/sahel-80999
END:VEVENT

END:VCALENDAR
