BEGIN:VCALENDAR
VERSION:2.0
PRODID:-//ChamberMaster//Event Calendar 2.0//EN
METHOD:PUBLISH
X-PUBLISHED-TTL:P3D
REFRESH-INTERVAL:P3D
CALSCALE:GREGORIAN
BEGIN:VEVENT
DTSTART:20250620T233000Z
DTEND:20250621T030000Z
X-MICROSOFT-CDO-ALLDAYEVENT:FALSE
SUMMARY:Sean Heely Summer Solstice Concert
DESCRIPTION:A brand new show from fiddle champion\, vocalist\, multi-instrumentalist Sean Heely and his band. Celtic traditions combine to celebrate the festival of The Solstice. Witness the beauty\, the heart\, the soul of this timeless music in a special kick-off to the festival. Sean has been selling out Strathmore and the Hylton Center\, and with his Celtic Holiday show\, and delighting the Cauldron with his Burns Night celebration\, come enjoy the debut of his new show. https://www.seanheely.com/
X-ALT-DESC;FMTTYPE=text/html:<span style="color:rgb(44\, 54\, 58)\; font-family:oxygen\; font-size:12.6px">A brand new show from fiddle champion\, vocalist\, multi-instrumentalist Sean Heely and his band. Celtic traditions combine to celebrate the festival of The Solstice. Witness the beauty\, the heart\, the soul of this timeless music in a special kick-off to the festival. Sean has been selling out Strathmore and the Hylton Center\, and with his Celtic Holiday show\, and delighting the Cauldron with his Burns Night celebration\, come enjoy the debut of his new show.&nbsp\;</span><a href="https://www.seanheely.com/" style="color: inherit\; transition: 200ms linear\; font-family: Oxygen\; font-size: 12.6px\;" target="_blank">https://www.seanheely.com/</a>
LOCATION:Creative Cauldron 127 E Broad St.\, Falls Church\, VA 22046
UID:e.1250.80992
SEQUENCE:3
DTSTAMP:20260420T133224Z
URL:https://business.fallschurchchamber.org/events/details/sean-heely-summer-solstice-concert-80992
END:VEVENT

END:VCALENDAR
