BEGIN:VCALENDAR
VERSION:2.0
PRODID:-//ChamberMaster//Event Calendar 2.0//EN
METHOD:PUBLISH
X-PUBLISHED-TTL:P3D
REFRESH-INTERVAL:P3D
CALSCALE:GREGORIAN
BEGIN:VEVENT
DTSTART:20120909T210000Z
DTEND:20120909T221500Z
X-MICROSOFT-CDO-ALLDAYEVENT:FALSE
SUMMARY:September 11 Healing Meditation
DESCRIPTION:Melanie Settje will lead this practice to send healing and hope to all affected by the events of 9/11. Donations will benefit the Families of Freedom Scholarship Fund to support children who lost parents in the September 11 attacks.
X-ALT-DESC;FMTTYPE=text/html:Melanie Settje will lead this practice to send healing and hope to all affected by the events of 9/11. Donations will benefit the Families of Freedom Scholarship Fund to support children who lost parents in the September 11 attacks.
LOCATION:450 West Broad St. Stes. 319-320 Falls Church\, VA 22046
UID:e.1250.330
SEQUENCE:3
DTSTAMP:20260425T234657Z
URL:https://business.fallschurchchamber.org/events/details/september-11-healing-meditation-09-09-2012-330
END:VEVENT

END:VCALENDAR
