BEGIN:VCALENDAR
VERSION:2.0
PRODID:-//ChamberMaster//Event Calendar 2.0//EN
METHOD:PUBLISH
X-PUBLISHED-TTL:P3D
REFRESH-INTERVAL:P3D
CALSCALE:GREGORIAN
BEGIN:VEVENT
DTSTART:20250719T234000Z
DTEND:20250720T030000Z
X-MICROSOFT-CDO-ALLDAYEVENT:FALSE
SUMMARY:Seth Kibel & The Kleztet
DESCRIPTION:You saw him at the Cauldron with Daryl Davis\, Seth's back with a program of klezmer (Eastern-European Jewish folk music) with musical detours into Yiddish folk-song\, and a smattering of jazz and swing. The sounds of the European "fiddler on the roof" mixed with the sounds of early jazz and Tin Pan Alley create a quintessentially American sound. https://sethkibel.com/
X-ALT-DESC;FMTTYPE=text/html:<span style="background-color:rgb(244\, 247\, 248)\; color:rgb(44\, 54\, 58)\; font-family:oxygen\; font-size:12.6px">You saw him at the Cauldron with Daryl Davis\, Seth&#39\;s back with a program of klezmer&nbsp\;(Eastern-European Jewish folk music) with musical detours into&nbsp\;Yiddish&nbsp\;folk-song\, and a smattering of jazz and swing. T</span><span style="background-color:rgb(244\, 247\, 248)\; color:rgb(44\, 54\, 58)\; font-family:oxygen\; font-size:12.6px">he sounds of the European &quot\;fiddler&nbsp\;on the roof&quot\; mixed with the sounds of early&nbsp\;jazz&nbsp\;and&nbsp\;</span><span style="background-color:rgb(244\, 247\, 248)\; color:rgb(44\, 54\, 58)\; font-family:oxygen\; font-size:12.6px">Tin</span><span style="background-color:rgb(244\, 247\, 248)\; color:rgb(44\, 54\, 58)\; font-family:oxygen\; font-size:12.6px">&nbsp\;</span><span style="background-color:rgb(244\, 247\, 248)\; color:rgb(44\, 54\, 58)\; font-family:oxygen\; font-size:12.6px">Pan</span><span style="background-color:rgb(244\, 247\, 248)\; color:rgb(44\, 54\, 58)\; font-family:oxygen\; font-size:12.6px">&nbsp\;Alley create&nbsp\;a quintessentially&nbsp\;American&nbsp\;sound.&nbsp\;</span><a href="https://sethkibel.com/" style="color: inherit\; transition: 200ms linear\; font-family: Oxygen\; font-size: 12.6px\; background-color: rgb(244\, 247\, 248)\;" target="_blank">https://sethkibel.com/</a>
LOCATION:Creative Cauldron 127 E Broad St.\, Falls Church\, VA 22046
UID:e.1250.80998
SEQUENCE:3
DTSTAMP:20260420T122403Z
URL:https://business.fallschurchchamber.org/events/details/seth-kibel-the-kleztet-80998
END:VEVENT

END:VCALENDAR
