BEGIN:VCALENDAR
VERSION:2.0
PRODID:-//ChamberMaster//Event Calendar 2.0//EN
METHOD:PUBLISH
X-PUBLISHED-TTL:P3D
REFRESH-INTERVAL:P3D
CALSCALE:GREGORIAN
BEGIN:VEVENT
DTSTART:20120725T223000Z
DTEND:20120726T010000Z
X-MICROSOFT-CDO-ALLDAYEVENT:FALSE
SUMMARY:Sfizi Cafe Dinner Buffet and Wine Tasting
DESCRIPTION:Enjoy a complete buffet of gourmet Italian dishes\n\n\n	\n\n	 and selected wines\n\n	\n		\n\n		  Wines by\n\n		 \n\n\n	\n		  Bravo Wine Cellar\n\n		  Giuseppe Penza\, Host\n\n\n	\n\n	\n		  Samples of select fine wines from Tuscany\n\n\n	 \n\n	 All wines available with special pricing this evening only!\n\n	\n\n	 Includes a gourmet buffet along with a glass of your\n\n	 favorite fine wine being presented
X-ALT-DESC;FMTTYPE=text/html:<div style="text-align: center\; line-height: 150%\; font-family: Arial\; color: #505050\; font-size: 14px">\n	<h2 class="null" style="text-align: center\; line-height: 100%\; margin: 0px 0px 10px\; display: block\; font-family: Arial\; color: #202020\; font-size: 30px\; font-weight: bold">\n		<strong style="line-height: 150%\; font-family: Arial\; color: rgb(80\,80\,80)\; font-size: 14px"><span style="font-size: 18px">Enjoy a complete buffet of gourmet Italian dishes</span></strong></h2>\n</div>\n<div style="text-align: center">\n	<br />\n	<strong style="line-height: 150%\; font-family: Arial\; color: rgb(80\,80\,80)\; font-size: 14px"><span style="font-size: 18px">&nbsp\;and selected wines</span></strong></div>\n<div style="text-align: center">\n	<h4 class="null" style="text-align: center\; line-height: 100%\; margin: 0px 0px 10px\; display: block\; font-family: Arial\; color: rgb(32\,32\,32)\; font-size: 22px\; font-weight: bold">\n		<br />\n		&nbsp\; Wines by<br />\n		&nbsp\;</h4>\n</div>\n<div style="text-align: center\; line-height: 150%\; font-family: Arial\; color: #505050\; font-size: 14px">\n	<h2 class="null" style="text-align: center\; line-height: 100%\; margin: 0px 0px 10px\; display: block\; font-family: Arial\; color: #202020\; font-size: 30px\; font-weight: bold">\n		&nbsp\; <span style="color: #008000">Bravo Wine Cellar<br />\n		&nbsp\; <strong><span style="font-size: 18px">Giuseppe Penza\, Host</span></strong></span></h2>\n</div>\n<div style="text-align: center">\n	<br />\n	<h4 class="null" style="text-align: center\; margin: 0px 0px 10px\; display: block">\n		<font class="Apple-style-span" color="#202020" face="Arial">&nbsp\; Samples of select fine wines from Tuscany</font></h4>\n</div>\n<p style="text-align: center">\n	&nbsp\;</p>\n<p style="text-align: center">\n	&nbsp\;<strong>All wines available with special pricing this evening only!</strong></p>\n<div style="text-align: center\; line-height: 150%\; font-family: Arial\; color: #505050\; font-size: 14px">\n	<br />\n	&nbsp\;<strong>Includes a gourmet buffet along with a glass of your<br />\n	&nbsp\;favorite fine wine being presented</strong></div>\n
LOCATION:Sfizi Cafe 800 W Broad St. Falls Church\, VA 22046
UID:e.1250.306
SEQUENCE:3
DTSTAMP:20260425T221339Z
URL:https://business.fallschurchchamber.org/events/details/sfizi-cafe-dinner-buffet-and-wine-tasting-07-25-2012-306
END:VEVENT

END:VCALENDAR
