BEGIN:VCALENDAR
VERSION:2.0
PRODID:-//ChamberMaster//Event Calendar 2.0//EN
METHOD:PUBLISH
X-PUBLISHED-TTL:P3D
REFRESH-INTERVAL:P3D
CALSCALE:GREGORIAN
BEGIN:VEVENT
DTSTART:20111026T223000Z
DTEND:20111027T010000Z
X-MICROSOFT-CDO-ALLDAYEVENT:FALSE
SUMMARY:Sfizi Wine Tasting
DESCRIPTION:Sfizi Wine Tasting - Sfizi is celebrating its 7th Anniversary by hosting their 1st wine tasting in their new location in the Flower Building. Wed\, Oct 26\, 6:30-9pm.\n\n	\n\n	$35 per person\, call 703-533-1191 for reservations.
X-ALT-DESC;FMTTYPE=text/html:<p style="margin-top: 0px\; margin-bottom: 0px\; color: #245c7b\; font-size: 12pt">\n	<strong>Sfizi Wine Tasting - Sfizi</strong> is celebrating its 7th Anniversary by hosting their 1st wine tasting in their new location in the Flower Building. Wed\, Oct 26\, 6:30-9pm.<br />\n	<br />\n	$35 per person\, call 703-533-1191 for reservations.<span _fck_bookmark="1" style="display: none">&nbsp\;</span></p>\n
LOCATION:Sfizi Cafe 800 W. Broad St. Falls Church\, VA 22046
UID:e.1250.165
SEQUENCE:3
DTSTAMP:20260423T055351Z
URL:https://business.fallschurchchamber.org/events/details/sfizi-wine-tasting-10-26-2011-165
END:VEVENT

END:VCALENDAR
