BEGIN:VCALENDAR
VERSION:2.0
PRODID:-//ChamberMaster//Event Calendar 2.0//EN
METHOD:PUBLISH
X-PUBLISHED-TTL:P3D
REFRESH-INTERVAL:P3D
CALSCALE:GREGORIAN
BEGIN:VEVENT
DTSTART:20250731T200000Z
DTEND:20250731T220000Z
X-MICROSOFT-CDO-ALLDAYEVENT:FALSE
SUMMARY:Sip & Sculpt Event
DESCRIPTION:Join us for a rejuvenating Sip & Sculpt Event at Skin Lab Med Spa! Discover the benefits of functional wellness while enjoying an evening of education\, demos\, and indulgence focused on building strength\, muscle\, and fat reduction. \n\nWhether you're curious about body sculpting or just want to unwind with great company\, this is an event you won't want to miss!
X-ALT-DESC;FMTTYPE=text/html:Join us for a rejuvenating Sip &amp\; Sculpt Event at Skin Lab Med Spa! Discover the benefits of functional wellness while enjoying an evening of education\, demos\, and indulgence focused on building strength\, muscle\, and fat reduction.&nbsp\;<br />\nWhether you&#39\;re curious about body sculpting or just want to unwind with great company\, this is an event you won&#39\;t want to miss!
LOCATION:Skin Lab Med Spa 1140 W. Broad Street Falls Church\, VA 22046
UID:e.1250.81291
SEQUENCE:3
DTSTAMP:20260420T121930Z
URL:https://business.fallschurchchamber.org/events/details/sip-sculpt-event-81291
END:VEVENT

END:VCALENDAR
