BEGIN:VCALENDAR
VERSION:2.0
PRODID:-//ChamberMaster//Event Calendar 2.0//EN
METHOD:PUBLISH
X-PUBLISHED-TTL:P3D
REFRESH-INTERVAL:P3D
CALSCALE:GREGORIAN
BEGIN:VEVENT
DTSTART:20161212T150000Z
DTEND:20161212T180000Z
X-MICROSOFT-CDO-ALLDAYEVENT:FALSE
SUMMARY:Smokey Eye Workshop
DESCRIPTION:Get ready for the holidays with this 30 minute workshop at Cherry Blow Dry Bar Mosaic on how to give yourself the perfect smokey eye! $35 class includes a glass of champagne and a free gift. Come with your friends for a girls' day out!\n\n\n	Watch our makeup artist demonstrate the application of a smokey eye. \n	Discover tips and techniques on applying a fabulous smokey eye in 10 minutes. \n	Perfect the technique on yourself\, with the guidance of a makeup artist (we will provide all the products).\n	Prepare yourself for lots of compliments at all your holiday events!\n\n\n\nPurchase tickets at https://mosaiccbdb.ticketleap.com/smokey-eye-workshop/.
X-ALT-DESC;FMTTYPE=text/html:<span style="background-color:rgb(255\, 255\, 255)\; color:rgb(75\, 79\, 86)\; font-family:helvetica\,arial\,sans-serif\; font-size:14px">Get ready for the holidays with this 30 minute workshop at <strong>Cherry Blow Dry Bar Mosaic </strong>on how to give yourself the perfect smokey eye! $35 class includes a glass of champagne and a free gift. Come with your friends for a girls&#39\; day out!</span>\n\n<ul>\n	<li><span style="background-color:rgb(255\, 255\, 255)\; color:rgb(75\, 79\, 86)\; font-family:helvetica\,arial\,sans-serif\; font-size:14px">Watch our makeup artist demonstrate the application of a smokey eye. </span></li>\n	<li><span style="background-color:rgb(255\, 255\, 255)\; color:rgb(75\, 79\, 86)\; font-family:helvetica\,arial\,sans-serif\; font-size:14px">Discover tips and techniques on applying a fabulous smokey eye in 10 minutes. </span></li>\n	<li><span style="background-color:rgb(255\, 255\, 255)\; color:rgb(75\, 79\, 86)\; font-family:helvetica\,arial\,sans-serif\; font-size:14px">Perfect the technique on yourself\, with the guidance of a makeup artist (we will provide all the products).</span></li>\n	<li><span style="background-color:rgb(255\, 255\, 255)\; color:rgb(75\, 79\, 86)\; font-family:helvetica\,arial\,sans-serif\; font-size:14px">Prepare yourself for lots of compliments at all your holiday events!</span></li>\n</ul>\n<br />\n<span style="background-color:rgb(255\, 255\, 255)\; color:rgb(75\, 79\, 86)\; font-family:helvetica\,arial\,sans-serif\; font-size:14px">Purchase tickets at&nbsp\;</span><a href="https://mosaiccbdb.ticketleap.com/smokey-eye-workshop/" rel="nofollow nofollow" style="color: rgb(54\, 88\, 153)\; cursor: pointer\; text-decoration: none\; font-family: Helvetica\, Arial\, sans-serif\; font-size: 14px\; background-color: rgb(255\, 255\, 255)\;" target="_blank">https://mosaiccbdb.ticketleap.com/smokey-eye-workshop/</a><span style="background-color:rgb(255\, 255\, 255)\; color:rgb(75\, 79\, 86)\; font-family:helvetica\,arial\,sans-serif\; font-size:14px">.</span>
LOCATION:Cherry Blow Dry Bar Mosaic 2985 District Ave\, Ste 165 Fairfax\, VA 22031 703-280-1800
UID:e.1250.14533
SEQUENCE:3
DTSTAMP:20260425T042551Z
URL:https://business.fallschurchchamber.org/events/details/smokey-eye-workshop-14533
END:VEVENT

END:VCALENDAR
