BEGIN:VCALENDAR
VERSION:2.0
PRODID:-//ChamberMaster//Event Calendar 2.0//EN
METHOD:PUBLISH
X-PUBLISHED-TTL:P3D
REFRESH-INTERVAL:P3D
CALSCALE:GREGORIAN
BEGIN:VEVENT
DTSTART:20250323T180000Z
DTEND:20250323T191500Z
X-MICROSOFT-CDO-ALLDAYEVENT:FALSE
SUMMARY:Snow White/Blancanieves
DESCRIPTION:Snow White\n\nBlancanieves\n\nA Learning Theater Production\n\nMusic by Matt Conner\n\nLyrics by Stephen Gregory Smith\n\nDirected by Lenny Mendez & Laura Connors Hull\n\n\n\nSponsored by Halm Jenkins PLLC\n\n\n \n\n\n \n\n\nThe Learning Theater takes an irreverent look at the one of the most popular Grimm tales of all time.  In this bi-lingual adaptation featuring the music of Conner and Smith\, Snow White meets all of your favorite characters:  the Magic Mirror\, the Evil Queen\, the little miners who come to her aid and a few other zany members of the kingdom that will have you rolling in the aisles.
X-ALT-DESC;FMTTYPE=text/html:<h2><strong><em>Snow White</em></strong></h2>\n\n<h2><em>Blancanieves</em></h2>\n\n<p>A Learning Theater Production<br />\nMusic by&nbsp\;<strong>Matt Conner</strong><br />\nLyrics by&nbsp\;<strong>Stephen Gregory Smith</strong><br />\nDirected by&nbsp\;<strong>Lenny Mendez &amp\; Laura Connors Hull</strong><br />\n<br />\nSponsored by Halm Jenkins PLLC</p>\n\n<div>\n<div>&nbsp\;</div>\n\n<hr />\n<div>&nbsp\;</div>\n</div>\n\n<div><span style="color:rgb(34\, 34\, 34)">The Learning Theater takes an irreverent look at the one of the most popular Grimm tales of all time. &nbsp\;In this bi-lingual adaptation featuring the music of Conner and Smith\, Snow White meets all of your favorite characters: &nbsp\;the Magic Mirror\, the Evil Queen\, the little miners who come to her aid and a few other zany members of the kingdom that will have you rolling in the aisles.</span></div>\n
LOCATION:127 E Broad St Falls Church\, VA 22046
UID:e.1250.79304
SEQUENCE:3
DTSTAMP:20260420T120142Z
URL:https://business.fallschurchchamber.org/events/details/snow-white-blancanieves-03-23-2025-79304
END:VEVENT

END:VCALENDAR
