BEGIN:VCALENDAR
VERSION:2.0
PRODID:-//ChamberMaster//Event Calendar 2.0//EN
METHOD:PUBLISH
X-PUBLISHED-TTL:P3D
REFRESH-INTERVAL:P3D
CALSCALE:GREGORIAN
BEGIN:VEVENT
DTSTART:20250517T190000Z
DTEND:20250517T210000Z
X-MICROSOFT-CDO-ALLDAYEVENT:FALSE
SUMMARY:Sopranessence Spring Concert to benefit Homestretch
DESCRIPTION:Sopranessence offers a fun take on classical music that the whole family can enjoy. Their Spring Concert - Home\, Hope & Harmony - will benefit Homestretch. Information can be found on their website at: Home | Sopranessence
X-ALT-DESC;FMTTYPE=text/html:Sopranessence offers a fun take on classical music that the whole family can enjoy. Their Spring Concert - Home\, Hope &amp\; Harmony - will benefit Homestretch. Information can be found on their website at:&nbsp\;<a href="https://sopranessence.org/">Home | Sopranessence</a>
LOCATION:United Baptist Church 7100 Columbia Pike Annandale. VA
UID:e.1250.80939
SEQUENCE:3
DTSTAMP:20260420T120409Z
URL:https://business.fallschurchchamber.org/events/details/sopranessence-spring-concert-to-benefit-homestretch-80939
END:VEVENT

END:VCALENDAR
