BEGIN:VCALENDAR
VERSION:2.0
PRODID:-//ChamberMaster//Event Calendar 2.0//EN
METHOD:PUBLISH
X-PUBLISHED-TTL:P3D
REFRESH-INTERVAL:P3D
CALSCALE:GREGORIAN
BEGIN:VEVENT
DTSTART:20250717T210000Z
DTEND:20250718T000000Z
X-MICROSOFT-CDO-ALLDAYEVENT:FALSE
SUMMARY:Spotlight on Falls Church Businesses at Harvey's
DESCRIPTION:Join us at Harvey's for a Spotlight on Falls Church   an evening dedicated to showcasing some of the most unique and vibrant businesses in our community. From hands-on creative spaces to health and wellness experts\, educational innovators\, and local wine purveyors\, you'll get the chance to meet and mingle with the people behind the businesses that help make Falls Church shine.\n\n\n\nFeatured participants include:\n\n Clay Caf  Studios   Paint-your-own pottery fun\n\n Acton Academy Falls Church   A learner-driven approach to education\n\n The Learning Quest   Personalized tutoring and academic support\n\n Metro Cellars   Exceptional wines\, thoughtfully curated\n\n LC Dental   Modern dentistry with a smile\n\n Body Dynamics\, Inc.   Integrated wellness and fitness programs\n\n Doorways   Supporting pathways out of homelessness and abuse\n\n\n\n\n\nEnjoy bites and drinks while discovering new favorites\, supporting local\, and connecting with neighbors. This is what community looks like   see you there!
X-ALT-DESC;FMTTYPE=text/html:<div>Join us at Harvey&rsquo\;s for a Spotlight on&nbsp\;Falls Church &mdash\; an evening dedicated to showcasing some of the most unique and vibrant businesses in our community. From hands-on creative spaces to health and wellness experts\, educational innovators\, and local wine purveyors\, you&#39\;ll get the chance to meet and mingle with the people behind the businesses that help make Falls Church shine.</div>\n\n<div><br />\nFeatured participants include:</div>\n\n<div>&bull\;Clay Caf&eacute\; Studios &ndash\; Paint-your-own pottery fun<br />\n&bull\;Acton Academy Falls Church &ndash\; A learner-driven approach to education<br />\n&bull\;The Learning Quest &ndash\; Personalized tutoring and academic support<br />\n&bull\;Metro Cellars &ndash\; Exceptional wines\, thoughtfully curated<br />\n&bull\;LC Dental &ndash\; Modern dentistry with a smile<br />\n&bull\;Body Dynamics\, Inc. &ndash\; Integrated wellness and fitness programs<br />\n&bull\;Doorways &ndash\; Supporting pathways out of homelessness and abuse</div>\n\n<div><br />\n<br />\nEnjoy bites and drinks while discovering new favorites\, supporting local\, and connecting with neighbors. This is what community looks like &mdash\; see you there!</div>\n
LOCATION:
UID:e.1250.81285
SEQUENCE:3
DTSTAMP:20260420T122455Z
URL:https://business.fallschurchchamber.org/events/details/spotlight-on-falls-church-businesses-at-harvey-s-81285
END:VEVENT

END:VCALENDAR
