BEGIN:VCALENDAR
VERSION:2.0
PRODID:-//ChamberMaster//Event Calendar 2.0//EN
METHOD:PUBLISH
X-PUBLISHED-TTL:P3D
REFRESH-INTERVAL:P3D
CALSCALE:GREGORIAN
BEGIN:VEVENT
DTSTART:20250302T003000Z
DTEND:20250302T020000Z
X-MICROSOFT-CDO-ALLDAYEVENT:FALSE
SUMMARY:Steel Magnolias
DESCRIPTION:Welcome to Truvy's Beauty Salon in Chinquapin\, Louisiana\, a hot spot where six brassy southern women come to laugh\, gossip\, and share the most intimate details of their lives and loves. This smash hit play\, became a smash hit movie that audiences loved. Creative Cauldron has assembled a talented and diverse sisterhood to tell this heartfelt and hilarious story. Steel Magnolia's is a lasting testament to the power of sisterhood that continues to charm and beguile audiences everywhere.\n\n\nBook by Robert Harling\n\nDirected by Laura Connors Hull\n\nSponsored by Mark F. Werblood\, Esq. and ?Serene Feldman Werblood
X-ALT-DESC;FMTTYPE=text/html:<h2><span style="font-size:13px">Welcome to Truvy&#39\;s Beauty Salon in Chinquapin\, Louisiana\, a hot spot where six brassy southern women come to laugh\, gossip\, and share the most intimate details of their lives and loves. This smash hit play\, became a smash hit movie that audiences loved. Creative Cauldron has assembled a talented and diverse sisterhood to tell this heartfelt and hilarious story.&nbsp\;</span><em style="font-size:13px">Steel Magnolia&#39\;s&nbsp\;</em><span style="font-size:13px">is a lasting testament to the power of sisterhood that continues to charm and beguile audiences everywhere.</span></h2>\n\n<div>\n<p>Book by&nbsp\;<strong>Robert Harling</strong><br />\nDirected by&nbsp\;<strong>Laura Connors Hull</strong></p>\n\n<p>Sponsored by Mark F. Werblood\, Esq. and ?Serene Feldman Werblood</p>\n</div>\n
LOCATION:Creative Cauldron 127 E Broad St\, Falls Church VA\, 22046
UID:e.1250.79061
SEQUENCE:3
DTSTAMP:20260420T131939Z
URL:https://business.fallschurchchamber.org/events/details/steel-magnolias-03-01-2025-79061
END:VEVENT

END:VCALENDAR
