BEGIN:VCALENDAR
VERSION:2.0
PRODID:-//ChamberMaster//Event Calendar 2.0//EN
METHOD:PUBLISH
X-PUBLISHED-TTL:P3D
REFRESH-INTERVAL:P3D
CALSCALE:GREGORIAN
BEGIN:VEVENT
DTSTART:20250627T233000Z
DTEND:20250628T030000Z
X-MICROSOFT-CDO-ALLDAYEVENT:FALSE
SUMMARY:Stephen Carter-Hicks "One Last Step into My Parlor"
DESCRIPTION:Stephen Carter-Hicks is returning to Creative Cauldron to celebrate its new space and to make one last visit to his parlor. The ravages of pulmonary arterial hypertension\, an incurable and ever-progressing disease\, have taken their toll on his airways\, reducing his ability to perform this repertoire. Nevertheless\, he persists...! Do step into his parlor and take one last journey into this forgotten music from a time when things were simpler. Be dazzled and amazed by the incredible Howard Breitbart\, whose imaginative and glorious skills on the piano will help transport you to a time long ago. A duo of renowned collaboration of over 40 years\, this is their 6th year at the Cauldron! In addition to being his heart-warming\, entertaining\, and amusing self\, he will generously donate all proceeds to the Pulmonary Hypertension Association (PHA) once again.
X-ALT-DESC;FMTTYPE=text/html:<div><span style="color:rgb(49\, 49\, 49)\; font-family:oxygen\; font-size:15px">Stephen Carter-Hicks is returning to Creative Cauldron to celebrate its new space and to make one last visit to his parlor. The ravages of pulmonary arterial hypertension\, an incurable and ever-progressing disease\, have taken their toll on his airways\, reducing his ability to perform this repertoire. Nevertheless\, he persists...! Do step into his parlor and take one last journey into this forgotten music from a time when things were simpler. Be dazzled and amazed by the incredible Howard Breitbart\, whose imaginative and glorious skills on the piano will help transport you to a time long ago. A duo of renowned collaboration of over 40 years\, this is their 6th year at the Cauldron!&nbsp\;</span>In addition to being his heart-warming\, entertaining\, and amusing self\, he will generously donate all proceeds to&nbsp\;<span style="color:rgb(49\, 49\, 49)\; font-family:oxygen\; font-size:15px">the Pulmonary Hypertension Association (PHA)</span><span style="color:rgb(49\, 49\, 49)\; font-family:oxygen\; font-size:15px">&nbsp\;once again.</span></div>\n
LOCATION:Creative Cauldron 127 E Broad St.\, Falls Church\, VA 22046
UID:e.1250.80994
SEQUENCE:3
DTSTAMP:20260420T132059Z
URL:https://business.fallschurchchamber.org/events/details/stephen-carter-hicks-80994
END:VEVENT

END:VCALENDAR
