BEGIN:VCALENDAR
VERSION:2.0
PRODID:-//ChamberMaster//Event Calendar 2.0//EN
METHOD:PUBLISH
X-PUBLISHED-TTL:P3D
REFRESH-INTERVAL:P3D
CALSCALE:GREGORIAN
BEGIN:VEVENT
DTSTART;VALUE=DATE:20120714
DTEND;VALUE=DATE:20120715
TRANSP:TRANSPARENT
X-MICROSOFT-CDO-ALLDAYEVENT:TRUE
SUMMARY:Stifel & Capra 5th Annual Birthday Party and Sale
DESCRIPTION:Enjoy birthday cake\, a champagne toast and general merriment as you tour the 19th century storefront and peruse the eclectic offerings of the resident artists & artisans at Stifel & Capra as we celebrate our 5th birthday. Can't make it for the party Saturday? The sale runs through Sunday\, July 15.
X-ALT-DESC;FMTTYPE=text/html:Enjoy birthday cake\, a champagne toast and general merriment as you tour the 19th century storefront and peruse the eclectic offerings of the resident artists &amp\; artisans at Stifel &amp\; Capra as we celebrate our 5th birthday. Can&#39\;t make it for the party Saturday? The sale runs through Sunday\, July 15.
LOCATION:Stifel & Capra 260 W. Broad Street Falls Church\, VA 22046
UID:e.1250.296
SEQUENCE:3
DTSTAMP:20260425T221748Z
URL:https://business.fallschurchchamber.org/events/details/stifel-capra-5th-annual-birthday-party-and-sale-07-14-2012-296
END:VEVENT

END:VCALENDAR
