BEGIN:VCALENDAR
VERSION:2.0
PRODID:-//ChamberMaster//Event Calendar 2.0//EN
METHOD:PUBLISH
X-PUBLISHED-TTL:P3D
REFRESH-INTERVAL:P3D
CALSCALE:GREGORIAN
BEGIN:VEVENT
DTSTART;VALUE=DATE:20121006
DTEND;VALUE=DATE:20121007
TRANSP:TRANSPARENT
X-MICROSOFT-CDO-ALLDAYEVENT:TRUE
SUMMARY:Stifel & Capra Featured Artisan Folk Coutour
DESCRIPTION:On hand  Saturday\, October 6th is Featured Artisan: Grace Napoleon\, who hand-stitches her Folk Couture line of reinvented clothing\, including tunics\, sweaters\, dresses and gowns.\n\n\n\nGrace says "In my sea of raw materials\, aka my studio\, a piece of clothing might sit for months until finally it's ready to tell me what it wants to be. More often than not\, however\, the dialogue and the vision are immediate: I see a well-made\, previously-loved something a fine cashmere sweater\, a rough hewn linen dress\, a shimmery skirt that twirls the way skirts are meant to and in no time I set about cutting and pinning and making new clothes\, the likes of which no one else has ever imagined. "\n\n\n\nCome see select pieces from her one of a kind line of clothing.
X-ALT-DESC;FMTTYPE=text/html:On hand &nbsp\;Saturday\, October 6th is Featured Artisan: Grace Napoleon\, who hand-stitches her Folk Couture line of reinvented clothing\, including tunics\, sweaters\, dresses and gowns.<br />\n<br />\nGrace says &quot\;In my sea of raw materials\, aka my studio\, a piece of clothing might sit for months until finally it&rsquo\;s ready to tell me what it wants to be. More often than not\, however\, the dialogue and the vision are immediate: I see a well-made\, previously-loved something&mdash\;a fine cashmere sweater\, a rough hewn linen dress\, a shimmery skirt that twirls the way skirts are meant to&mdash\;and in no time I set about cutting and pinning and making new clothes\, the likes of which no one else has ever imagined. &quot\;<br />\n<br />\nCome see select pieces from her one of a kind line of clothing.<br />\n&nbsp\;
LOCATION:Stifel & Capra
UID:e.1250.346
SEQUENCE:3
DTSTAMP:20260426T012832Z
URL:https://business.fallschurchchamber.org/events/details/stifel-capra-featured-artisan-folk-coutour-10-06-2012-346
END:VEVENT

END:VCALENDAR
