BEGIN:VCALENDAR
VERSION:2.0
PRODID:-//ChamberMaster//Event Calendar 2.0//EN
METHOD:PUBLISH
X-PUBLISHED-TTL:P3D
REFRESH-INTERVAL:P3D
CALSCALE:GREGORIAN
BEGIN:VEVENT
DTSTART:20120701T140000Z
DTEND:20120731T210000Z
X-MICROSOFT-CDO-ALLDAYEVENT:FALSE
SUMMARY:Stifel & Capra Visiting Artist
DESCRIPTION:Joining us in the Alcove Gallery on the second floor this month is Klara Sever. Klara studied and worked as a sculptor and restorer in Czechoslovakia. Since moving to the US\, she continues to sculpt full time. She exhibits frequently in New York and locally at the Art Barn\, Gallery House and Marlboro House. Her originals and reproductions can be found in private and public collections in the US and Europe\, and she has completed many commission for collectors such as the NFL\, NBC\, and NASA. Please come and view her beautiful\, evocative sculptures.
X-ALT-DESC;FMTTYPE=text/html:Joining us in the Alcove Gallery on the second floor this month is Klara Sever. Klara studied and worked as a sculptor and restorer in Czechoslovakia. Since moving to the US\, she continues to sculpt full time. She exhibits frequently in New York and locally at the Art Barn\, Gallery House and Marlboro House. Her originals and reproductions can be found in private and public collections in the US and Europe\, and she has completed many commission for collectors such as the NFL\, NBC\, and NASA. Please come and view her beautiful\, evocative sculptures.&nbsp\;
LOCATION:Stifel & Capra 260 West Broad Street Falls Church\, VA 22046
UID:e.1250.295
SEQUENCE:3
DTSTAMP:20260425T202110Z
URL:https://business.fallschurchchamber.org/events/details/stifel-capra-visiting-artist-07-01-2012-295
END:VEVENT

END:VCALENDAR
