BEGIN:VCALENDAR
VERSION:2.0
PRODID:-//ChamberMaster//Event Calendar 2.0//EN
METHOD:PUBLISH
X-PUBLISHED-TTL:P3D
REFRESH-INTERVAL:P3D
CALSCALE:GREGORIAN
BEGIN:VEVENT
DTSTART;VALUE=DATE:20120801
DTEND;VALUE=DATE:20120901
TRANSP:TRANSPARENT
X-MICROSOFT-CDO-ALLDAYEVENT:TRUE
SUMMARY:Stifel & Capra Visiting Artist Kathie Rogers
DESCRIPTION:Joining us in the Alcove Gallery on the second floor of Stifel & Capra this month is Kathie Rogers. This Vienna artist has been painting for 20 years. Kathie says "Beauty is all around us and in our busy lives\, we often overlook it. My goal as an artist is to translate that beauty onto a canvas with my paints." Stop by and visit to see Kathie's exhibit of selected paintings. FREE\, open to the public.
X-ALT-DESC;FMTTYPE=text/html:Joining us in the Alcove Gallery on the second floor of Stifel &amp\; Capra this month is Kathie Rogers. This Vienna artist has been painting for 20 years. Kathie says &quot\;Beauty is all around us and in our busy lives\, we often overlook it. My goal as an artist is to translate that beauty onto a canvas with my paints.&quot\; Stop by and visit to see Kathie&#39\;s exhibit of selected paintings. FREE\, open to the public.
LOCATION:Stifel & Capra 260 West Broad St. Falls Church\, VA 22046
UID:e.1250.309
SEQUENCE:3
DTSTAMP:20260425T234759Z
URL:https://business.fallschurchchamber.org/events/details/stifel-capra-visiting-artist-kathie-rogers-08-01-2012-309
END:VEVENT

END:VCALENDAR
