BEGIN:VCALENDAR
VERSION:2.0
PRODID:-//ChamberMaster//Event Calendar 2.0//EN
METHOD:PUBLISH
X-PUBLISHED-TTL:P3D
REFRESH-INTERVAL:P3D
CALSCALE:GREGORIAN
BEGIN:VEVENT
DTSTART:20120708T233000Z
DTEND:20120709T023000Z
X-MICROSOFT-CDO-ALLDAYEVENT:FALSE
SUMMARY:Stone Room Concert at Bikenetic
DESCRIPTION:Stone Room House Concerts\, in collaboration with Bikenetic\, will host Barrett Smith\, guitarist\, singer\, song writer from Asheville\, NC\, in concert at the bike shop\, 922 W. Broad St.\, Falls Church. \n\n		\n\n		Please read more about Barrett and the Stone Room House Concert series at www.stoneroomconcerts.com. \n\n		\n\n		Some snacks and beverages will be provided\, but we invite you to bring your favorite snack or dessert and/or beverage to share. \n\n		\n\n		To reserve a seat(s)\, send an e-mail to David Holiday at stoneroomconcerts@gmail.com.  You don't want to miss this opportunity to mingle with your Falls Church neighbors and hear a great concert!
X-ALT-DESC;FMTTYPE=text/html:<div style="color: gray">\n	<p>\n		<font color="#000000" face="Times New Roman" size="3">Stone Room House Concerts\, in collaboration with Bikenetic\, will host Barrett Smith\, guitarist\, singer\, song writer from Asheville\, NC\, in concert at the bike shop\, 922 W. Broad St.\, Falls Church.&nbsp\;<br />\n		<br />\n		Please read more about Barrett and the Stone Room House Concert series at </font><a href="http://www.stoneroomconcerts.com/"><font face="Times New Roman" size="3">www.stoneroomconcerts.com</font></a><font color="#000000" face="Times New Roman" size="3">.&nbsp\;<br />\n		<br />\n		Some snacks and beverages will be provided\, but we invite you to bring your favorite snack or dessert and/or beverage to share.&nbsp\;<br />\n		<br />\n		To reserve a seat(s)\, send an e-mail to David Holiday at </font><a href="mailto:stoneroomconcerts@gmail.com"><font face="Times New Roman" size="3">stoneroomconcerts@gmail.com</font></a><font size="3"><font color="#000000"><font face="Times New Roman">.&nbsp\; You don&#39\;t want to miss this opportunity to mingle with your Falls Church neighbors and hear a great concert!<o:p></o:p></font></font></font></p>\n</div>\n
LOCATION:Bikenetic\, 922 W. Broad St.\, Falls Church Va
UID:e.1250.301
SEQUENCE:3
DTSTAMP:20260425T202301Z
URL:https://business.fallschurchchamber.org/events/details/stone-room-concert-at-bikenetic-07-08-2012-301
END:VEVENT

END:VCALENDAR
