BEGIN:VCALENDAR
VERSION:2.0
PRODID:-//ChamberMaster//Event Calendar 2.0//EN
METHOD:PUBLISH
X-PUBLISHED-TTL:P3D
REFRESH-INTERVAL:P3D
CALSCALE:GREGORIAN
BEGIN:VEVENT
DTSTART:20111025T203000Z
DTEND:20111025T223000Z
X-MICROSOFT-CDO-ALLDAYEVENT:FALSE
SUMMARY:Sunrise Autumn Patio Party
DESCRIPTION:Sunrise Autumn Patio Party - Stop by and meet Gary Hughes and Christine Ballance\, Sunrise's new ED and Dir. of Community Relations on Tues\, Oct 25 between 4:30 and 6:30.\n\n	\n\n	RSVP to 703-- 534-2700
X-ALT-DESC;FMTTYPE=text/html:<p style="margin-top: 0px\; margin-bottom: 0px\; color: #245c7b\; font-size: 12pt">\n	<span style="font-size: 12pt"><strong>Sunrise Autumn Patio Party</strong> - Stop by and meet Gary Hughes and Christine Ballance\, Sunrise&#39\;s new ED and Dir. of Community Relations on <em>Tues\, Oct 25</em> between 4:30 and 6:30.<br />\n	<br />\n	RSVP to 703-<span style="font-size: 12pt">- 534-2700</span></span></p>\n
LOCATION:Sunrise of Falls Church 330 N. Washington St. Falls Church\, VA 22046
UID:e.1250.164
SEQUENCE:3
DTSTAMP:20260423T055635Z
URL:https://business.fallschurchchamber.org/events/details/sunrise-autumn-patio-party-10-25-2011-164
END:VEVENT

END:VCALENDAR
