BEGIN:VCALENDAR
VERSION:2.0
PRODID:-//ChamberMaster//Event Calendar 2.0//EN
METHOD:PUBLISH
X-PUBLISHED-TTL:P3D
REFRESH-INTERVAL:P3D
CALSCALE:GREGORIAN
BEGIN:VEVENT
DTSTART:20120907T200000Z
DTEND:20120907T230000Z
X-MICROSOFT-CDO-ALLDAYEVENT:FALSE
SUMMARY:Sunstone Counselor's Open House
DESCRIPTION:Sustone Counseling\n\nCounseling services for children\, adolescents\, adults\, couples\, families\, parents\, & groups.\n\n\n\ninvites you to meet the counselors at an Open House\n\n4pm - 7 pm\n\nSeptember 7\, 2012\n\n\n\nWe are located at\n\n124 D East Broad St.\n\nFalls Church
X-ALT-DESC;FMTTYPE=text/html:<span style="font-size: 18px">Sustone Counseling</span><br />\n<em>Counseling services for children\, adolescents\, adults\, couples\, families\, parents\, &amp\; groups.</em><br />\n<br />\n<span style="font-size: 18px">invites you to meet the counselors at an Open House<br />\n4pm - 7 pm<br />\nSeptember 7\, 2012<br />\n<br />\nWe are located at<br />\n124 D East Broad St.<br />\nFalls Church</span>
LOCATION:124 D East Broad St. Falls Church\, VA 22046
UID:e.1250.326
SEQUENCE:3
DTSTAMP:20260425T234802Z
URL:https://business.fallschurchchamber.org/events/details/sunstone-counselor-s-open-house-09-07-2012-326
END:VEVENT

END:VCALENDAR
