BEGIN:VCALENDAR
VERSION:2.0
PRODID:-//ChamberMaster//Event Calendar 2.0//EN
METHOD:PUBLISH
X-PUBLISHED-TTL:P3D
REFRESH-INTERVAL:P3D
CALSCALE:GREGORIAN
BEGIN:VEVENT
DTSTART:20120102T200000Z
DTEND:20120102T230000Z
X-MICROSOFT-CDO-ALLDAYEVENT:FALSE
SUMMARY:Taste of Class- Class Fair
DESCRIPTION:Have you always wanted to try a new class at a community center but needed additional information before committing? The City of Falls Church Recreation and Parks Department offers a variety of classes\, art\, dance\, music\, fitness\, and much more. Come meet instructors\, learn about classes\, preview classes and register early for classes featured at the fair! The Taste of Class will be held January 2\, 2012 from 3-6pm at the Falls Church Community Center. This is a FREE event open to the public. Come out and enjoy face painters\, food and fun!!! For additional information\, please visit www.fallschurchva.gov or 703-248-5027.
X-ALT-DESC;FMTTYPE=text/html:<p>\n	Have you always wanted to try a new class at a community center but needed additional information before committing? The City of Falls Church Recreation and Parks Department offers a variety of classes\, art\, dance\, music\, fitness\, and much more. Come meet instructors\, learn about classes\, preview classes and register early for classes featured at the fair! The Taste of Class will be held January 2\, 2012 from 3-6pm at the Falls Church Community Center. This is a FREE event open to the public. Come out and enjoy face painters\, food and fun!!! For additional information\, please visit <a href="http://www.fallschurchva.gov">www.fallschurchva.gov</a> or 703-248-5027.</p>\n
LOCATION:223 Little Falls St. Falls Church\, VA 22046
UID:e.1250.180
SEQUENCE:3
DTSTAMP:20260423T102014Z
URL:https://business.fallschurchchamber.org/events/details/taste-of-class-class-fair-01-02-2012-180
END:VEVENT

END:VCALENDAR
