BEGIN:VCALENDAR
VERSION:2.0
PRODID:-//ChamberMaster//Event Calendar 2.0//EN
METHOD:PUBLISH
X-PUBLISHED-TTL:P3D
REFRESH-INTERVAL:P3D
CALSCALE:GREGORIAN
BEGIN:VEVENT
DTSTART;VALUE=DATE:20110917
DTEND;VALUE=DATE:20110918
TRANSP:TRANSPARENT
X-MICROSOFT-CDO-ALLDAYEVENT:TRUE
SUMMARY:Taste of Falls Church
DESCRIPTION:Taste of FC Line Up - Chamber members Anthony's\, Applebee's\, Clare & Don's Beach Shack\, Dogwood Tavern\, Famous Dave's\, Flippin' Pizza\, Hoang's Grill & Sushi Bar\, Ireland's Four Provinces\, Lazy Sundae\, Mad Fox\, and The Original Pancake House are among the 17 food establishments signed up to provide tastes at the Sept 17 event. Supporters include Fall Properties\, Foxcraft Design Group\, and Tori McKinney (Your Green Realtor Offering Rock Star Service).  Email Jenny at jpaxton@fallschurchva.gov for more info.
X-ALT-DESC;FMTTYPE=text/html:<p style="margin-top: 0px\; margin-bottom: 0px">\n	<span style="font-family: arial"><span style="font-size: 12pt"><strong>Taste of FC Line Up</strong> - Chamber members <strong>Anthony&#39\;s\, Applebee&#39\;s\, Clare &amp\; Don&#39\;s Beach Shack\, Dogwood Tavern\, Famous Dave&#39\;s\, Flippin&#39\; Pizza\, Hoang&#39\;s Grill &amp\; Sushi Bar\, Ireland&#39\;s Four Provinces\, Lazy Sundae\, Mad Fox\, and The Original Pancake House</strong> are among the 17 food establishments&nbsp\;signed up to provide tastes at the <em><strong>Sept 17</strong></em> event. Supporters include Fall Properties\, Foxcraft Design Group\, and <strong>Tori McKinney</strong> (Your Green Realtor Offering Rock Star Service).&nbsp\;&nbsp\;Email Jenny at </span></span><span style="font-size: 12pt"><a href="mailto:jpaxton@fallschurchva.gov" shape="rect" target="_blank"><span style="font-family: arial"><font color="#348900" size="2">jpaxton@fallschurchva.gov</font></span></a></span><span style="font-family: arial"><span style="font-size: 12pt"> for more info.<span _fck_bookmark="1" style="display: none">&nbsp\;</span></span></span></p>\n
LOCATION:
UID:e.1250.19
SEQUENCE:3
DTSTAMP:20260423T044947Z
URL:https://business.fallschurchchamber.org/events/details/taste-of-falls-church-09-17-2011-19
END:VEVENT

END:VCALENDAR
