BEGIN:VCALENDAR
VERSION:2.0
PRODID:-//ChamberMaster//Event Calendar 2.0//EN
METHOD:PUBLISH
X-PUBLISHED-TTL:P3D
REFRESH-INTERVAL:P3D
CALSCALE:GREGORIAN
BEGIN:VEVENT
DTSTART:20160804T231500Z
DTEND:20160805T010000Z
X-MICROSOFT-CDO-ALLDAYEVENT:FALSE
SUMMARY:Teacher Assistant Mentorship Program
DESCRIPTION:This Program is a follow-up to the DMY Teacher Assistant Program. This is an invitation-only program that will give you the opportunity to be considered for DMY's teaching staff as a Teacher's Assistant.\n\n \n\nPlease note that this is an intense training and your 100% commitment is required.\n\n \n\nProgram Dates: Thursdays. Other program requirements may be completed during and after these meeting dates.\n\n \n\nThursdays: July 21\, 28. August 4\, 11 \n\n \n\nRegistration Fees\n\n \n\nEarly Bird Price: $325\n\nRegular Price: $425\n\n \n\n*Early Bird Pricing until July 7\, 2016
X-ALT-DESC;FMTTYPE=text/html:<div>This Program is a follow-up to the DMY Teacher Assistant Program. This is an invitation-only program that will give you the opportunity to be considered for DMY&rsquo\;s teaching staff as a Teacher&rsquo\;s Assistant.</div>\n\n<div>&nbsp\;</div>\n\n<div>Please note that this is an intense training and your 100% commitment is required.</div>\n\n<div>&nbsp\;</div>\n\n<div>Program Dates: Thursdays. Other program requirements may be completed during and after these meeting dates.</div>\n\n<div>&nbsp\;</div>\n\n<div><em>Thursdays: July 21\, 28. August 4\, 11&nbsp\;</em></div>\n\n<div>&nbsp\;</div>\n\n<div><u><em><strong>Registration Fees</strong></em></u></div>\n\n<div>&nbsp\;</div>\n\n<div><strong>Early Bird Price:</strong>&nbsp\;$325</div>\n\n<div><strong>Regular Price:</strong>&nbsp\;$425</div>\n\n<div>&nbsp\;</div>\n\n<div><span style="font-family:inherit\; font-size:12px">*Early Bird Pricing until July 7\, 2016</span></div>\n
LOCATION:Dancing Mind 929 West Broad Street #101 Falls Church\, VA 22046
UID:e.1250.9100
SEQUENCE:3
DTSTAMP:20260426T031256Z
URL:https://business.fallschurchchamber.org/events/details/teacher-assistant-mentorship-program-08-04-2016-9100
END:VEVENT

END:VCALENDAR
