BEGIN:VCALENDAR
VERSION:2.0
PRODID:-//ChamberMaster//Event Calendar 2.0//EN
METHOD:PUBLISH
X-PUBLISHED-TTL:P3D
REFRESH-INTERVAL:P3D
CALSCALE:GREGORIAN
BEGIN:VEVENT
DTSTART:20160716T120000Z
DTEND:20160716T220000Z
X-MICROSOFT-CDO-ALLDAYEVENT:FALSE
SUMMARY:Teacher Assistant Program
DESCRIPTION:Immerse yourself in this intensive 2-day training to spark your true understanding of Asana and further your yoga experience beyond your expectations!  \n\n \n\nLEARN \n\n  Anatomy\, alignment\, and physiology of the Baptiste practice\n\n  How to assist and practice powerfully in a vinyasa class   Enhanced techniques for working one on one with students/clients  \n\n \n\nGAIN \n\n  A deeper understanding of your personal yoga practice\n\n  Confidence and skill to assist independently of teaching   Opportunities to join DM's Teacher Assistant Team\n\n \n\nTRANSFORM \n\n  Your relationship with your body and self\n\n  Your yoga practice with enhanced\, in-depth knowledge of asana\n\n  How you connect with yourself and others in your life  \n\n \n\nRegistration Fees:    \n\n \n\nMember Early Bird: $225\n\nNon-Member Early Bird: $245  \n\n \n\n*Early Bird Rate expires 6/17/2016  \n\n \n\nRegular: $295  \n\n \n\nImportant! This program serves as the pre-requisite for entering our Teacher Assistant Mentorship Program (TAMP) and becoming a DMY Instructor. Completion of this comprehensive course will give you a solid understanding of alignment and form as well as specific hands-on adjustments for all of the foundation postures. You can apply everything you learn here to teaching any style of yoga. This course is your Introduction to becoming a powerful student and teacher of Power Vinyasa yoga.
X-ALT-DESC;FMTTYPE=text/html:<div>Immerse yourself in this intensive 2-day training to spark your true understanding of Asana and further your yoga experience beyond your expectations! &nbsp\;</div>\n\n<div>&nbsp\;</div>\n\n<div><strong>LEARN&nbsp\;</strong></div>\n\n<div>&bull\; Anatomy\, alignment\, and physiology of the Baptiste practice</div>\n\n<div>&bull\; How to assist and practice powerfully in a vinyasa class &bull\; Enhanced techniques for working one on one with students/clients &nbsp\;</div>\n\n<div>&nbsp\;</div>\n\n<div><strong>GAIN&nbsp\;</strong></div>\n\n<div>&bull\; A deeper understanding of your personal yoga practice</div>\n\n<div>&bull\; Confidence and skill to assist independently of teaching &bull\; Opportunities to join DM&#39\;s Teacher Assistant Team</div>\n\n<div>&nbsp\;</div>\n\n<div><strong>TRANSFORM&nbsp\;</strong></div>\n\n<div>&bull\; Your relationship with your body and self</div>\n\n<div>&bull\; Your yoga practice with enhanced\, in-depth knowledge of asana</div>\n\n<div>&bull\; How you connect with yourself and others in your life &nbsp\;</div>\n\n<div>&nbsp\;</div>\n\n<div><em><strong><u>Registration Fees:</u>&nbsp\;</strong></em>&nbsp\; &nbsp\;</div>\n\n<div>&nbsp\;</div>\n\n<div><strong>Member Early Bird:</strong>&nbsp\;$225</div>\n\n<div><strong>Non-Member Early Bird:</strong>&nbsp\;$245 &nbsp\;</div>\n\n<div>&nbsp\;</div>\n\n<div>*Early Bird Rate expires 6/17/2016 &nbsp\;</div>\n\n<div>&nbsp\;</div>\n\n<div><strong>Regular:</strong>&nbsp\;$295 &nbsp\;</div>\n\n<div>&nbsp\;</div>\n\n<div><em><span style="font-family:inherit\; font-size:12px">Important! This program serves as the pre-requisite for entering our Teacher Assistant Mentorship Program (TAMP) and becoming a DMY Instructor. Completion of this comprehensive course will give you a solid understanding of alignment and form as well as specific hands-on adjustments for all of the foundation postures. You can apply everything you learn here to teaching any style of yoga. This course is your Introduction to becoming a powerful student and teacher of Power Vinyasa yoga.</span></em></div>\n
LOCATION:Dancing Mind 929 West Broad Street #101 Falls Church\, VA 22046
UID:e.1250.9096
SEQUENCE:3
DTSTAMP:20260425T191339Z
URL:https://business.fallschurchchamber.org/events/details/teacher-assistant-program-07-16-2016-9096
END:VEVENT

END:VCALENDAR
