BEGIN:VCALENDAR
VERSION:2.0
PRODID:-//ChamberMaster//Event Calendar 2.0//EN
METHOD:PUBLISH
X-PUBLISHED-TTL:P3D
REFRESH-INTERVAL:P3D
CALSCALE:GREGORIAN
BEGIN:VEVENT
DTSTART:20250830T120000Z
DTEND:20250830T160000Z
X-MICROSOFT-CDO-ALLDAYEVENT:FALSE
SUMMARY:Teddy Bear Fix It Clinic
DESCRIPTION:Teddy Bear Repair Clinic at Falls Church Farmers Market!\n\nCome join us at the Falls Church Farmers Market for a fun-filled day of teddy bear repairs! Bring your beloved stuffed animals that need a little TLC and our team of experts will fix them up good as new. It's a great opportunity to learn some basic sewing skills and give your furry friends some extra love. Don't miss out on this special event at 300 Park Ave!\n\nIt is also a great opportunity to learn how the circular economy works. Some of our furry friends come from the Clock Tower Thrift Store\, they will be repaired to go live their second or third life! and we will be helping keep them away from landfills.
X-ALT-DESC;FMTTYPE=text/html:<p><strong>Teddy Bear Repair Clinic at Falls Church Farmers Market!</strong></p>\n\n<p>Come join us at the Falls Church Farmers Market for a fun-filled day of teddy bear repairs! Bring your beloved stuffed animals that need a little TLC and our team of experts will fix them up good as new. It&#39\;s a great opportunity to learn some basic sewing skills and give your furry friends some extra love. Don&#39\;t miss out on this special event at 300 Park Ave!<br />\nIt is also a great opportunity to learn how the circular economy works. Some of our furry friends come from the Clock Tower Thrift Store\, they will be repaired to go live their second or third life! and we will be helping keep them away from landfills.&nbsp\;</p>\n
LOCATION:Falls Church Farmers Market
UID:e.1250.81322
SEQUENCE:3
DTSTAMP:20260420T102820Z
URL:https://business.fallschurchchamber.org/events/details/teddy-bear-fix-it-clinic-81322
END:VEVENT

END:VCALENDAR
