BEGIN:VCALENDAR
VERSION:2.0
PRODID:-//ChamberMaster//Event Calendar 2.0//EN
METHOD:PUBLISH
X-PUBLISHED-TTL:P3D
REFRESH-INTERVAL:P3D
CALSCALE:GREGORIAN
BEGIN:VEVENT
DTSTART:20121104T140000Z
DTEND:20121104T220000Z
X-MICROSOFT-CDO-ALLDAYEVENT:FALSE
SUMMARY:Tending to the Vines: An Exclusive Tour of Barboursville Vineyards
DESCRIPTION:Experience a private vineyard tour with Barboursville winemaker.  Taste the evolution of wine and how they mature with aging.  Indulge in a three course wine and food pairing luncheon prepared by Executive Chef Melissa Close Hart of Palladio Restaurant while enjoying the peak fall foliage.
X-ALT-DESC;FMTTYPE=text/html:Experience a private vineyard tour with Barboursville winemaker.&nbsp\; Taste the evolution of wine and how they mature with aging.&nbsp\; Indulge in a three course wine and food pairing luncheon prepared by Executive Chef Melissa Close Hart of Palladio Restaurant while enjoying the peak fall foliage.
LOCATION:Bus leaves from Red\, White & Bleu
UID:e.1250.389
SEQUENCE:3
DTSTAMP:20260426T032242Z
URL:https://business.fallschurchchamber.org/events/details/tending-to-the-vines-an-exclusive-tour-of-barboursville-vineyards-11-04-2012-389
END:VEVENT

END:VCALENDAR
