BEGIN:VCALENDAR
VERSION:2.0
PRODID:-//ChamberMaster//Event Calendar 2.0//EN
METHOD:PUBLISH
X-PUBLISHED-TTL:P3D
REFRESH-INTERVAL:P3D
CALSCALE:GREGORIAN
BEGIN:VEVENT
DTSTART:20250729T140000Z
DTEND:20250729T160000Z
X-MICROSOFT-CDO-ALLDAYEVENT:FALSE
SUMMARY:The Beatles Books & Magazines Auction ***ONLINE ONLY***
DESCRIPTION:The Beatles Books & Magazines Auction\n\nStep into the world of the Fab Four with this exciting auction featuring a large assortment of books and magazines dedicated to The Beatles and their legendary members. The collection includes : Books spanning decades of Beatles history\, biographies\, and behind-the-scenes stories. While most are standard editions\, there are a few signed copies for avid collectors. magazines from the past 40 years\, carefully curated to capture articles\, interviews\, and retrospectives on the band and each member's solo journey. This is a must-see event for Beatles enthusiasts and collectors alike-a rare chance to explore decades of media coverage and literary works about the greatest band in music history.\n\n\n\nSALE INFO:\n\nJuly 29th\, 2025\n\nFirst lot closing at 12:00PM Eastern\n\nOnline Only Auction\n\n25% Buyers Premium\n\nTerms & Conditions can be found by following the link\, in the left hand bar of the sale page.\n\nNo in person inspection available - please email with questions about items\n\nPICKUP INFO:\n\nJuly 30th 9:40am to 2:00pm\n\nPlease bring appropriate assistance for removal. We will not be able to offer assistance.\n\nIf you do not come at your designated pickup time your lots will be forfeited without refund.\n\nNo shipping available for this auction.
X-ALT-DESC;FMTTYPE=text/html:<p><a href="https://quinnsauction.appspot.com/auctions/PmYgyTRcGSqoxqLEJ9pN/a/QP276-Falls-Church--VA---The-Beatles-Book-and-Magazine-Collection"><span style="font-size:18px">The Beatles Books &amp\; Magazines Auction</span></a></p>\n\n<p>Step into the world of the Fab Four with this exciting auction featuring a large assortment of books and magazines dedicated to The Beatles and their legendary members. The collection includes : Books spanning decades of Beatles history\, biographies\, and behind-the-scenes stories. While most are standard editions\, there are a few signed copies for avid collectors. magazines from the past 40 years\, carefully curated to capture articles\, interviews\, and retrospectives on the band and each member&#39\;s solo journey. This is a must-see event for Beatles enthusiasts and collectors alike-a rare chance to explore decades of media coverage and literary works about the greatest band in music history.<br />\n<br />\n<strong>SALE INFO:</strong><br />\nJuly 29th\, 2025<br />\nFirst lot closing at 12:00PM Eastern<br />\nOnline Only Auction<br />\n25% Buyers Premium<br />\nTerms &amp\; Conditions can be found by following the link\, in the left hand bar of the sale page.<br />\nNo in person inspection available - please email with questions about items</p>\n\n<p><strong>PICKUP INFO:</strong><br />\nJuly 30th 9:40am to 2:00pm<br />\nPlease bring appropriate assistance for removal. We will not be able to offer assistance.<br />\n<strong>If you do not come at your designated pickup time your lots will be forfeited without refund.</strong><br />\n<strong>No shipping available for this auction.</strong></p>\n
LOCATION:
UID:e.1250.81293
SEQUENCE:3
DTSTAMP:20260420T122516Z
URL:https://business.fallschurchchamber.org/events/details/the-beatles-books-magazines-auction-online-only-81293
END:VEVENT

END:VCALENDAR
