BEGIN:VCALENDAR
VERSION:2.0
PRODID:-//ChamberMaster//Event Calendar 2.0//EN
METHOD:PUBLISH
X-PUBLISHED-TTL:P3D
REFRESH-INTERVAL:P3D
CALSCALE:GREGORIAN
BEGIN:VEVENT
DTSTART:20250718T233000Z
DTEND:20250719T030000Z
X-MICROSOFT-CDO-ALLDAYEVENT:FALSE
SUMMARY:The Flybirds
DESCRIPTION:This award winning musical embodiment of Alternative Bluegrass & Appalachia based out of Winchester\, Virginia\, have migrated through the music industry for 8 years\, their voices and melodies soaring to new heights together. This unique and original band is comprised of Elizabeth Baker on banjo\, and fiddle\, Mary Dunlap on bass\, Sarah Twigg on guitar. Their first full length original album "The Band is Causing Problems" released in 2020 and they've just released their second album "The Band is Playing Covers" in 2023.
X-ALT-DESC;FMTTYPE=text/html:<span style="background-color:rgb(244\, 247\, 248)\; color:rgb(44\, 54\, 58)\; font-family:oxygen\; font-size:12.6px">This award winning musical embodiment of Alternative Bluegrass &amp\; Appalachia based out of Winchester\, Virginia\, have migrated through the music industry for 8 years\, their voices and melodies soaring to new heights together. This unique and original band is comprised of Elizabeth Baker on banjo\, and fiddle\, Mary Dunlap on bass\, Sarah Twigg on guitar. Their first full length original album &quot\;The Band is Causing Problems&quot\; released in 2020 and they&#39\;ve just released their second album &quot\;The Band is Playing Covers&quot\; in 2023.</span>
LOCATION:Creative Cauldron 127 E Broad St.\, Falls Church\, VA 22046
UID:e.1250.80997
SEQUENCE:3
DTSTAMP:20260420T121845Z
URL:https://business.fallschurchchamber.org/events/details/the-flybirds-80997
END:VEVENT

END:VCALENDAR
