BEGIN:VCALENDAR
VERSION:2.0
PRODID:-//ChamberMaster//Event Calendar 2.0//EN
METHOD:PUBLISH
X-PUBLISHED-TTL:P3D
REFRESH-INTERVAL:P3D
CALSCALE:GREGORIAN
BEGIN:VEVENT
DTSTART:20250731T140000Z
DTEND:20250731T170000Z
X-MICROSOFT-CDO-ALLDAYEVENT:FALSE
SUMMARY:Tiffany Style Lamps Auction ***ONLINE ONLY***
DESCRIPTION:Tiffany Style Lamps Auction\n\nQuinn's Auction Galleries presents this Tiffany Style Lamp Specialty Auction. Whether you're a seasoned collector\, an interior design enthusiast\, or simply captivated by the glow of antique-inspired lighting\, this curated offering has something to enchant every eye.\n\n\n\nSALE INFO:\n\nJuly 31st\, 2025\n\nFirst lot closing at 1:00PM Eastern\n\nOnline Only Auction\n\n25% Buyers Premium\n\nTerms & Conditions can be found by following the link\, in the left hand bar of the sale page.\n\nNo in person inspection available - please email with questions about items\n\nPICKUP INFO:\n\nAlexandria\, VA\n\nAugust 5th 10:40am to 3:00pm\n\nAddress for pickup and appointment signup provided to winners via auction invoice.\n\nPlease bring appropriate assistance for removal. We will not be able to offer assistance.\n\nIf you do not come at your designated pickup time your lots will be forfeited without refund.\n\nNo shipping available for this auction.
X-ALT-DESC;FMTTYPE=text/html:<p><a href="https://quinnsauction.appspot.com/auctions/7AjxsX9FD6f9ILGfmhcO"><span style="font-size:18px">Tiffany Style Lamps Auction</span></a></p>\n\n<p>Quinn&#39\;s Auction Galleries presents this Tiffany Style Lamp Specialty Auction. Whether you&#39\;re a seasoned collector\, an interior design enthusiast\, or simply captivated by the glow of antique-inspired lighting\, this curated offering has something to enchant every eye.<br />\n<br />\n<strong>SALE INFO:</strong><br />\nJuly 31st\, 2025<br />\nFirst lot closing at 1:00PM Eastern<br />\nOnline Only Auction<br />\n25% Buyers Premium<br />\nTerms &amp\; Conditions can be found by following the link\, in the left hand bar of the sale page.<br />\nNo in person inspection available - please email with questions about items</p>\n\n<p><strong>PICKUP INFO:</strong><br />\nAlexandria\, VA<br />\nAugust 5th 10:40am to 3:00pm<br />\nAddress for pickup and appointment signup provided to winners via auction invoice.<br />\nPlease bring appropriate assistance for removal. We will not be able to offer assistance.<br />\n<strong>If you do not come at your designated pickup time your lots will be forfeited without refund.</strong><br />\n<strong>No shipping available for this auction.</strong></p>\n
LOCATION:
UID:e.1250.81286
SEQUENCE:3
DTSTAMP:20260420T122400Z
URL:https://business.fallschurchchamber.org/events/details/tiffany-style-lamps-auction-online-only-81286
END:VEVENT

END:VCALENDAR
