BEGIN:VCALENDAR
VERSION:2.0
PRODID:-//ChamberMaster//Event Calendar 2.0//EN
METHOD:PUBLISH
X-PUBLISHED-TTL:P3D
REFRESH-INTERVAL:P3D
CALSCALE:GREGORIAN
BEGIN:VEVENT
DTSTART:20120608T210000Z
DTEND:20120609T000000Z
X-MICROSOFT-CDO-ALLDAYEVENT:FALSE
SUMMARY:Tinner Hill Blues Festival
DESCRIPTION:VIP OPENING RECEPTION\n	\n		Join us for the VIP Opening Reception for the Tinner Hill Blues Festival at Stifel and Capra\, featuring live music by\n	\n		Clarence "The Bluesman" Turner\, plus a multi-artist bluesy art exhibit\, refreshments\, blues books and their author. Meet visual and festival performing artists\, including VIP performers at the Festival including Diunna Greeleaf  and Blue Mercy.  Diunna was nominated for the Koko Taylor Award-Traditional Blues Female\, Traditional Blues Album.\n	\n		Free \n	\n		8:00 pm\n	\n		\n			FRIDAY AT THE STATE THEATRE\n		\n			Diunna Greenleaf & Blue Mercy.\n		\n			Diunna nominated for the Koko Taylor Award- Traditional Blues Female. The Blues Music Awards are universally recognized as the highest honor given to Blues Artists.\n		\n			Memphis Gold & Band\, this smoking band includes Charlie Sayles & others! Memphis puts on a show seeped in the raw-edged\, delta-driven roots-blues!  \n		\n			Tickets $30\, plus VIP @ specially seated tables $40 per ticket. Sponsorship tables also available. Purchase tickets @ The State Theatre \n	\n	\n		\n			The State Theater\n\n			220 North Washington Street\n\n			703-237-0300
X-ALT-DESC;FMTTYPE=text/html:<div style="color: gray">\n	<p>\n		VIP OPENING RECEPTION</p>\n	<p>\n		Join us for the VIP Opening Reception for the Tinner Hill Blues Festival at <a href="http://www.stifelandcapra.com/">Stifel and Capra</a>\, featuring live music by</p>\n	<p>\n		<a href="http://www.myspace.com/clarenceturner">Clarence &quot\;The Bluesman</a>&quot\; Turner\, plus a multi-artist bluesy art exhibit\, refreshments\, blues books and their author. Meet visual and festival performing artists\, including VIP performers at the Festival including <a href="http://tinnerhill.org/www.diunna.com/">Diunna Greeleaf&nbsp\;&nbsp\;and Blue Mercy</a>.&nbsp\;&nbsp\;Diunna was nominated for the Koko Taylor Award-Traditional Blues Female\, Traditional Blues Album.</p>\n	<p>\n		Free&nbsp\;</p>\n	<div class="col of3">\n		8:00 pm</div>\n	<div class="col of3 both-sides">\n		<p>\n			FRIDAY AT THE STATE THEATRE</p>\n		<p>\n			<a href="http://www.diunna.com/">Diunna Greenleaf &amp\; Blue Mercy.</a></p>\n		<p>\n			Diunna nominated for the Koko Taylor Award- Traditional Blues Female. The Blues Music Awards are universally recognized as the highest honor given to Blues Artists.</p>\n		<p>\n			<a href="http://www.memphisgoldprod.net/fr_bio.cfm">Memphis Gold &amp\; Band</a>\, this smoking band includes Charlie Sayles &amp\; others! Memphis puts on a show seeped in the raw-edged\, delta-driven roots-blues! &nbsp\;</p>\n		<p>\n			Tickets $30\, plus VIP @ specially seated tables $40 per ticket. Sponsorship tables also available. Purchase tickets @ <a href="http://www.thestatetheatre.com/index.xml">The State Theatre&nbsp\;</a></p>\n	</div>\n	<div class="col of3">\n		<p>\n			<a href="http://www.thestatetheatre.com/index.xml">The State Theater</a><br />\n			220 North Washington Street<br />\n			703-237-0300</p>\n	</div>\n</div>\n
LOCATION:Stifel & Capra 260 West Broad St 703-533-3557 & The State Theater 220 North Washington Street 703-237-0300
UID:e.1250.270
SEQUENCE:3
DTSTAMP:20260425T184616Z
URL:https://business.fallschurchchamber.org/events/details/tinner-hill-blues-festival-06-08-2012-270
END:VEVENT

END:VCALENDAR
