BEGIN:VCALENDAR
VERSION:2.0
PRODID:-//ChamberMaster//Event Calendar 2.0//EN
METHOD:PUBLISH
X-PUBLISHED-TTL:P3D
REFRESH-INTERVAL:P3D
CALSCALE:GREGORIAN
BEGIN:VEVENT
DTSTART:20120608T210000Z
DTEND:20120609T000000Z
X-MICROSOFT-CDO-ALLDAYEVENT:FALSE
SUMMARY:Tinner Hill Blues Festival VIP Opening Reception at Stifel & Capra
DESCRIPTION:Come and immerse yourself in the blues to kick off the weekend-long Tinner Hill Blues Festival. Stifel & Capra is pleased to host the VIP Opening Reception for the Tinner Hill Blues Festival on Friday\, June 8 from 5-8pm. The house will be rocking with live music by Clarence "Bluesman" Turner & Band. View the multi-artist bluesy art exhibit\, "S&C Salutes the Blues"\, enjoy refreshments\, browse blues books and meet the authors. Also on hand: meet visual and performing artists\, including VIP performers at the Festival\, Blue Mercy and Diunna Greenleaf. Diunna was nominated for the Koko Taylor Award-Traditional Blues Female\, Traditional Blues Album. FREE and open to the public. For more information of the entire line up of the Tinner Hills Blues Festival go to tinnerhill.org/blues-festival .
X-ALT-DESC;FMTTYPE=text/html:Come and immerse yourself in the blues to kick off the weekend-long Tinner Hill Blues Festival. Stifel &amp\; Capra is pleased to host the VIP Opening Reception for the Tinner Hill Blues Festival on Friday\, June 8 from 5-8pm. The house will be rocking with live music by Clarence &quot\;Bluesman&quot\; Turner &amp\; Band. View the multi-artist bluesy art exhibit\, &quot\;S&amp\;C Salutes the Blues&quot\;\, enjoy refreshments\, browse blues books and meet the authors. Also on hand: meet visual and performing artists\, including VIP performers at the Festival\, Blue Mercy and Diunna Greenleaf. Diunna was nominated for the Koko Taylor Award-Traditional Blues Female\, Traditional Blues Album. FREE and open to the public. For more information of the entire line up of the Tinner Hills Blues Festival go to tinnerhill.org/blues-festival .
LOCATION:Stifel & Capra 260 W. Broad Street\, Falls Church\, VA 22046
UID:e.1250.286
SEQUENCE:3
DTSTAMP:20260425T185340Z
URL:https://business.fallschurchchamber.org/events/details/tinner-hill-blues-festival-vip-opening-reception-at-stifel-capra-06-08-2012-286
END:VEVENT

END:VCALENDAR
