BEGIN:VCALENDAR
VERSION:2.0
PRODID:-//ChamberMaster//Event Calendar 2.0//EN
METHOD:PUBLISH
X-PUBLISHED-TTL:P3D
REFRESH-INTERVAL:P3D
CALSCALE:GREGORIAN
BEGIN:VEVENT
DTSTART:20121109T230000Z
DTEND:20121110T020000Z
X-MICROSOFT-CDO-ALLDAYEVENT:FALSE
SUMMARY:Tinner Hill Fundraiser at Famous Dave's
DESCRIPTION:Famous Dave's BBQ on Broad Street will host live Blues music featuring Canadian duo\, Braithwaite and Whitely between 6-9 pm on Friday\, Nov 9. A portion of proceeds from your meal will go to benefit Tinner Hill Heritage Foundation. Downbeat Magazine says "It's a rare and good thing when two talented performers join forces." Chris is the winner of the 2012 Maple Blues Award for Best Horn Player and collectively\, they share nine Maple Blues Awards and six Juno nominations. There is no admission charge and a portion of proceeds from you meal supports Tinner Hill Heritage Foundation.Famous Dave's is located at 370 W. Broad Street in Falls Church\, VA. 703-533-3418 more info at www.tinnerhill.org
X-ALT-DESC;FMTTYPE=text/html:<br />\n<span style="font-size: medium"><span style="font-family: calibri">Famous Dave&#39\;s BBQ on Broad Street will host live Blues music featuring Canadian duo\, Braithwaite and Whitely between 6-9 pm on Friday\, Nov 9. A portion of proceeds from your meal will go to benefit Tinner Hill Heritage Foundation. Downbeat Magazine says &quot\;It&#39\;s a rare and good thing when two talented performers join forces.&quot\; Chris is the winner of the 2012 Maple Blues Award for Best Horn Player and collectively\, they share nine Maple Blues Awards and six Juno nominations. There is no admission charge and a portion of proceeds from you meal supports Tinner Hill Heritage Foundation.Famous Dave&#39\;s is located at 370 W. Broad Street in Falls Church\, VA. 703-533-3418 more info at </span></span><a href="http://www.tinnerhill.org/"><span style="font-size: medium"><span style="font-family: calibri">www.tinnerhill.org</span></span></a>&nbsp\;<br />\n
LOCATION:Famous Dave's BBQ 370 W. Broad St. Falls Church\, VA
UID:e.1250.396
SEQUENCE:3
DTSTAMP:20260426T031602Z
URL:https://business.fallschurchchamber.org/events/details/tinner-hill-fundraiser-at-famous-dave-s-11-09-2012-396
END:VEVENT

END:VCALENDAR
