BEGIN:VCALENDAR
VERSION:2.0
PRODID:-//ChamberMaster//Event Calendar 2.0//EN
METHOD:PUBLISH
X-PUBLISHED-TTL:P3D
REFRESH-INTERVAL:P3D
CALSCALE:GREGORIAN
BEGIN:VEVENT
DTSTART;VALUE=DATE:20120609
DTEND;VALUE=DATE:20120610
TRANSP:TRANSPARENT
X-MICROSOFT-CDO-ALLDAYEVENT:TRUE
SUMMARY:Tinner Hills Blues Festival
DESCRIPTION:Tinner HIll Blues Festival.\n\n\n\nEvents all day long!\n\nVisit www.tinnerhill.org for a complete listing of events and times
X-ALT-DESC;FMTTYPE=text/html:Tinner HIll Blues Festival.<br />\n<br />\nEvents all day long!<br />\nVisit <a href="http://www.tinnerhill.org">www.tinnerhill.org</a> for a complete listing of events and times
LOCATION:Events at FC Farmers Market and concert at Cherry Hill Park
UID:e.1250.271
SEQUENCE:3
DTSTAMP:20260425T202435Z
URL:https://business.fallschurchchamber.org/events/details/tinner-hills-blues-festival-06-09-2012-271
END:VEVENT

END:VCALENDAR
