BEGIN:VCALENDAR
VERSION:2.0
PRODID:-//ChamberMaster//Event Calendar 2.0//EN
METHOD:PUBLISH
X-PUBLISHED-TTL:P3D
REFRESH-INTERVAL:P3D
CALSCALE:GREGORIAN
BEGIN:VEVENT
DTSTART:20120802T210000Z
DTEND:20120802T230000Z
X-MICROSOFT-CDO-ALLDAYEVENT:FALSE
SUMMARY:Tori McKinney's Rock Star on the Rocks Happy Hour
DESCRIPTION:Tori McKinney\, Realtor\n\n	ROCK STAR Realty... Offering ROCK STAR Service \n\n	is featured on Clare & Don'snew Rocks Glasses!\n\n	\n\n	You're Invited to Join Team Tori for the release of the ROCK STAR on the Rocksglasses and help celebrate with a special happy hour this Thursday\, August 2nd from 5 - 7 PM.\n\n	 The fun continues with Soul Gravity performing at 7pm.   \n\n	 \n\n	Make sure to stop by Clare & Don's on Thursday for the ultimate ROCK STARhappy hour!
X-ALT-DESC;FMTTYPE=text/html:<div style="color: gray">\n	<span style="font-size: medium"><span style="font-family: trebuchet ms"><strong><span style="color: #333333"><span style="font-family: trebuchet ms\, sans-serif">Tori McKinney\, Realtor</span></span></strong></span></span><br />\n	<span style="font-size: medium"><span style="font-family: trebuchet ms"><span style="color: #ff6600"><span style="font-family: trebuchet ms\, sans-serif">ROCK STAR Realty</span></span></span><span style="color: #333333"><span style="font-family: trebuchet ms\, sans-serif">... Offering </span></span></span><span style="color: #ff6600"><span style="font-family: trebuchet ms\, sans-serif">ROCK STAR Service</span></span><span style="color: #333333"><span style="font-family: trebuchet ms\, sans-serif">&trade\;</span></span><br />\n	<span style="color: #333333"><span style="font-family: trebuchet ms\, sans-serif"><span style="font-size: medium"><span style="font-family: trebuchet ms">is featured on <strong><em><span style="font-family: trebuchet ms\, sans-serif">Clare &amp\; Don&#39\;s</span></em></strong></span></span></span></span><span style="font-size: medium"><span style="font-family: trebuchet ms">new Rocks Glasses!<br />\n	<br />\n	You&#39\;re Invited to Join Team Tori for the release of the </span></span><span style="font-size: medium"><strong><em><span style="color: #ff6600"><span style="font-family: trebuchet ms\, sans-serif">ROCK STAR on the Rocks</span></span></em></strong></span><span style="color: #333333"><span style="font-family: trebuchet ms\, sans-serif">glasses and help celebrate with a special happy hour this <strong><span style="font-family: trebuchet ms\, sans-serif">Thursday\, August 2nd</span></strong></span> from <strong><span style="font-family: trebuchet ms\, sans-serif">5 - 7 PM</span></strong></span>.<br />\n	<span style="color: #333333"><span style="font-family: trebuchet ms\, sans-serif">&nbsp\;The fun continues with <strong><em><span style="font-family: trebuchet ms\, sans-serif">Soul Gravity</span></em></strong></span> performing at 7pm.&nbsp\; &nbsp\;</span><br />\n	<span style="font-size: 12pt"><span style="color: #333333"><span style="font-family: trebuchet ms\, sans-serif">&nbsp\;<br />\n	Make sure to stop by <strong><em><span style="font-family: trebuchet ms\, sans-serif">Clare &amp\; Don&#39\;s</span></em></strong></span> on <u>Thursday</u> for the ultimate </span></span><span style="font-size: 12pt"><span style="color: #ff6600"><span style="font-family: trebuchet ms\, sans-serif">ROCK STAR</span></span></span><span style="font-size: 12pt"><span style="color: #333333"><span style="font-family: trebuchet ms\, sans-serif"><span style="font-family: trebuchet ms">happy hour!</span></span></span></span></div>\n
LOCATION:Clare & Don's Beach Shack
UID:e.1250.315
SEQUENCE:3
DTSTAMP:20260425T221738Z
URL:https://business.fallschurchchamber.org/events/details/tori-mckinney-s-rock-star-on-the-rocks-happy-hour-08-02-2012-315
END:VEVENT

END:VCALENDAR
