BEGIN:VCALENDAR
VERSION:2.0
PRODID:-//ChamberMaster//Event Calendar 2.0//EN
METHOD:PUBLISH
X-PUBLISHED-TTL:P3D
REFRESH-INTERVAL:P3D
CALSCALE:GREGORIAN
BEGIN:VEVENT
DTSTART;VALUE=DATE:20120806
DTEND;VALUE=DATE:20120908
TRANSP:TRANSPARENT
X-MICROSOFT-CDO-ALLDAYEVENT:TRUE
SUMMARY:Unity Club New Chair Drive
DESCRIPTION:Where You Gonna Put Yo' Butt?\n\n	Unity Club New Chair Drive: Donate and Enter Raffle to Win Flat-Screen TV!\n\n	         \n\n	          Help the Unity Club\, a charity and 25-year-old Falls Church City part of the community\, replace its chairs with a minimum $29 donation and you'll be entered into a Sept. 7\, 2012 drawing to win a Sharp\, 32"\, LCD\, HDTV\, flat-screen television. And you\, your family or friends who attend Unity Club 12-step recovery programs or public events can be assured of a place to rest your bod.\n\n	            Much of the day and night\, every day\, the Unity Club's doors are open to the public to meet and support one another or participate in numerous 12-step recovery programs. More than 12\,000 visit each month and the programs are credited with helping numerous people with addictions and facing emotional challenges get better. During the annual City of Falls Church New Year's Eve and throughout the year\, the Unity Club holds well-attended\, fun events for the public which weave in area businesses particularly when attendees add dinner or shopping before or after. And the Club feeds several hundred people from the City and environs on both Thanksgiving and Christmas. \n\n	            Donate at the Unity Club\, 116B W. Broad St.\, Falls Church City or at www.unityclub.com  click on "donate" in the menu on the left.  You do not have to be at drawing to win.
X-ALT-DESC;FMTTYPE=text/html:<div style="color: gray">\n	<span style="color: #000000"><strong><span style="font-size: 16pt">Where You Gonna Put Yo&rsquo\; Butt?</span></strong></span><br />\n	<span style="font-size: 16px"><strong>Unity Club New Chair Drive: Donate and Enter Raffle to Win Flat-Screen TV!</strong><br />\n	&nbsp\;&nbsp\;&nbsp\;&nbsp\;&nbsp\;&nbsp\;&nbsp\;&nbsp\;&nbsp\;</span><br />\n	<span style="font-size: medium">&nbsp\;&nbsp\;&nbsp\;&nbsp\;&nbsp\;&nbsp\;&nbsp\;&nbsp\;&nbsp\;&nbsp\;Help the Unity Club\, a charity and 25-year-old Falls Church City part of the community\, replace its chairs with a minimum $29 donation and you&rsquo\;ll be entered into a Sept. 7\, 2012 drawing to win a Sharp\, 32&rdquo\;\, LCD\, HDTV\, flat-screen television. And you\, your family or friends who attend Unity Club 12-step recovery programs or public events can be assured of a place to rest your bod.</span><br />\n	<span style="font-size: medium">&nbsp\;&nbsp\;&nbsp\;&nbsp\;&nbsp\;&nbsp\;&nbsp\;&nbsp\;&nbsp\;&nbsp\;&nbsp\; Much of the day and night\, every day\, the Unity Club&rsquo\;s doors are open to the public to meet and support one another or participate in numerous 12-step recovery programs. More than 12\,000 visit each month and the programs are credited with helping numerous people with addictions and facing emotional challenges get better. During the annual City of Falls Church New Year&rsquo\;s Eve and throughout the year\, the Unity Club holds well-attended\, fun events for the public which weave in area businesses particularly when attendees add dinner or shopping before or after. And the Club feeds several hundred people from the City and environs on both Thanksgiving and Christmas. </span><br />\n	<span style="font-size: 11pt"><span style="font-family: arial\, sans-serif">&nbsp\;&nbsp\;&nbsp\;&nbsp\;&nbsp\;&nbsp\;&nbsp\;&nbsp\;&nbsp\;&nbsp\;&nbsp\; Donate at the Unity Club\, 116B W. Broad St.\, Falls Church City or at </span><a href="http://www.unityclub.com/">www.unityclub.com</a>&ndash\; click on &ldquo\;donate&rdquo\; in the menu on the left.&nbsp\; You do not have to be at drawing to win.&nbsp\;</span></div>\n
LOCATION:The Unity Club 116B W. Broad St. Falls Church\, VA or donate online at www.unityclub.com
UID:e.1250.317
SEQUENCE:3
DTSTAMP:20260425T221619Z
URL:https://business.fallschurchchamber.org/events/details/unity-club-new-chair-drive-08-06-2012-317
END:VEVENT

END:VCALENDAR
