BEGIN:VCALENDAR
VERSION:2.0
PRODID:-//ChamberMaster//Event Calendar 2.0//EN
METHOD:PUBLISH
X-PUBLISHED-TTL:P3D
REFRESH-INTERVAL:P3D
CALSCALE:GREGORIAN
BEGIN:VEVENT
DTSTART:20250726T233000Z
DTEND:20250727T030000Z
X-MICROSOFT-CDO-ALLDAYEVENT:FALSE
SUMMARY:Valeria Stewart and Friends
DESCRIPTION:John Lennon song contest winner and vocalist with Crooked Sparrow\, Argentinian born\, Valeria celebrates the album release of her new all-Spanish album\, plus original and classic songs in the Americana and folk tradition\, with folk\, jazz and Latin influences. Arlingtonian Magazine "one to watch". https://www.valeriastewart.com/
X-ALT-DESC;FMTTYPE=text/html:<span style="font-size:16px\;"><span style="color: rgb(44\, 54\, 58)\; font-family: oxygen\;">John Lennon song contest winner and vocalist with Crooked Sparrow\, Argentinian born\, Valeria celebrates the album release of her new all-Spanish album\, plus original and classic songs in the Americana and folk tradition\, with folk\, jazz and Latin influences. Arlingtonian Magazine &quot\;one to watch&quot\;.&nbsp\;</span></span><a href="https://www.valeriastewart.com/" style="color: inherit\; transition: 200ms linear\; font-family: Oxygen\; font-size: 12.6px\;" target="_blank">https://www.valeriastewart.com/</a>
LOCATION:Creative Cauldron 127 E Broad St.\, Falls Church\, VA 22046
UID:e.1250.81000
SEQUENCE:3
DTSTAMP:20260420T122535Z
URL:https://business.fallschurchchamber.org/events/details/valeria-stewart-and-friends-81000
END:VEVENT

END:VCALENDAR
