BEGIN:VCALENDAR
VERSION:2.0
PRODID:-//ChamberMaster//Event Calendar 2.0//EN
METHOD:PUBLISH
X-PUBLISHED-TTL:P3D
REFRESH-INTERVAL:P3D
CALSCALE:GREGORIAN
BEGIN:VEVENT
DTSTART:20250515T170000Z
DTEND:20250515T173000Z
X-MICROSOFT-CDO-ALLDAYEVENT:FALSE
SUMMARY:Valvoline Instant Oil Change Ribbon Cutting
DESCRIPTION:The Chamber is welcoming Valvoline Instant Oil Change to Falls Church on Thursday!  Join the chamber members and elected officials at their newest location\, 2925 Gallows Road\, Falls Church.  Meet the manager and corporate officials and get a tour of the site.  The ribbon will be cut at 1:00 pm and a reception will follow.
X-ALT-DESC;FMTTYPE=text/html:The Chamber is welcoming Valvoline Instant Oil Change to Falls Church on Thursday!&nbsp\; Join the chamber members and elected officials at their newest location\, 2925 Gallows Road\, Falls Church.&nbsp\; Meet the manager and corporate officials and get a tour of the site.&nbsp\; The ribbon will be cut at 1:00 pm and a reception will follow.
LOCATION:
UID:e.1250.80938
SEQUENCE:3
DTSTAMP:20260420T120412Z
URL:https://business.fallschurchchamber.org/events/details/valvoline-instant-oil-change-ribbon-cutting-80938
END:VEVENT

END:VCALENDAR
