BEGIN:VCALENDAR
VERSION:2.0
PRODID:-//ChamberMaster//Event Calendar 2.0//EN
METHOD:PUBLISH
X-PUBLISHED-TTL:P3D
REFRESH-INTERVAL:P3D
CALSCALE:GREGORIAN
BEGIN:VEVENT
DTSTART:20120124T110000Z
DTEND:20120125T030000Z
X-MICROSOFT-CDO-ALLDAYEVENT:FALSE
SUMMARY:Vantage Fitness Open House
DESCRIPTION:We're Having An Open House at Vantage Fitness!!  Come Workout With Us!! \n\n \n\nTuesday - January 24th\, 2012 - All Day!!\n\n \n\nPlease Share With Your Staff\, Residents and Friends!!\n\n \n\nAll Are Welcome!!(Must Be 18 or Older   Please See Disclaimer on Bottom of Flyer) Bring Friends!!
X-ALT-DESC;FMTTYPE=text/html:<span style="font-size: 18pt"><span style="color: #1f497d"><span style="font-family: calibri">We&rsquo\;re Having An Open House at Vantage Fitness!! &nbsp\;Come Workout With Us!! </span></span></span><br />\n&nbsp\;<br />\n<strong><span style="font-size: 24pt"><span style="color: #1f497d"><span style="font-family: calibri">Tuesday - January 24<sup>th</sup>\, 2012 - All Day!!</span></span></span></strong><br />\n&nbsp\;<br />\n<strong><span style="font-size: 24pt"><span style="color: #1f497d"><span style="font-family: calibri">Please Share With Your Staff\, Residents and Friends!!</span></span></span></strong><br />\n&nbsp\;<br />\n<span style="font-family: calibri"><strong><span style="font-size: 18pt"><span style="color: #1f497d">All Are Welcome!!</span></span></strong></span><span style="font-size: 14pt"><span style="color: #1f497d">(Must Be 18 or Older &ndash\; Please See Disclaimer on Bottom of Flyer) </span></span><span style="font-size: 18pt"><span style="color: #1f497d">Bring Friends!!&nbsp\;&nbsp\;&nbsp\;</span></span><br />\n
LOCATION:Vantage Fitness 402 W. Broad St. 2nd Floor Falls Church\, VA 22046
UID:e.1250.196
SEQUENCE:3
DTSTAMP:20260423T103156Z
URL:https://business.fallschurchchamber.org/events/details/vantage-fitness-open-house-01-24-2012-196
END:VEVENT

END:VCALENDAR
