BEGIN:VCALENDAR
VERSION:2.0
PRODID:-//ChamberMaster//Event Calendar 2.0//EN
METHOD:PUBLISH
X-PUBLISHED-TTL:P3D
REFRESH-INTERVAL:P3D
CALSCALE:GREGORIAN
BEGIN:VEVENT
DTSTART;VALUE=DATE:20120918
DTEND;VALUE=DATE:20120919
TRANSP:TRANSPARENT
X-MICROSOFT-CDO-ALLDAYEVENT:TRUE
SUMMARY:Vantage Fitness Open House
DESCRIPTION:Vantage Fitness is hosting an Open House with refreshments\, demos\, presentations and more all day on Tuesday the 18th.\n\n\n\nCome by and visit!
X-ALT-DESC;FMTTYPE=text/html:Vantage Fitness is hosting an Open House with refreshments\, demos\, presentations and more all day on Tuesday the 18th.<br />\n<br />\nCome by and visit!<br />\n
LOCATION:402 W. Broad St.
UID:e.1250.340
SEQUENCE:3
DTSTAMP:20260426T012837Z
URL:https://business.fallschurchchamber.org/events/details/vantage-fitness-open-house-09-18-2012-340
END:VEVENT

END:VCALENDAR
