BEGIN:VCALENDAR
VERSION:2.0
PRODID:-//ChamberMaster//Event Calendar 2.0//EN
METHOD:PUBLISH
X-PUBLISHED-TTL:P3D
REFRESH-INTERVAL:P3D
CALSCALE:GREGORIAN
BEGIN:VEVENT
DTSTART;VALUE=DATE:20110921
DTEND;VALUE=DATE:20110922
TRANSP:TRANSPARENT
X-MICROSOFT-CDO-ALLDAYEVENT:TRUE
SUMMARY:Vantage Fitness Open House
DESCRIPTION:Enjoy Free Food & Giveaways from our Local Business Partners!  Meet Trainers\, Ask them Questions and receive Free Body Fat Analysis & Free Blood Pressure Screenings!  Special Group Exercise Classes!  AND Much More!!
X-ALT-DESC;FMTTYPE=text/html:<span style="font-size: 12pt"><span style="color: #1f497d"><span style="font-family: verdana\, sans-serif">Enjoy Free Food &amp\; Giveaways from our Local Business Partners!&nbsp\; Meet Trainers\, Ask them Questions and receive Free Body Fat Analysis &amp\; Free Blood Pressure Screenings! &nbsp\;Special Group Exercise Classes!&nbsp\; AND Much More!!&nbsp\;</span></span></span><br />\n
LOCATION:Vantage Fitness 402 West Broad St\, Second Floor Falls Church\, VA 22046
UID:e.1250.22
SEQUENCE:3
DTSTAMP:20260423T044941Z
URL:https://business.fallschurchchamber.org/events/details/vantage-fitness-open-house-09-21-2011-22
END:VEVENT

END:VCALENDAR
