BEGIN:VCALENDAR
VERSION:2.0
PRODID:-//ChamberMaster//Event Calendar 2.0//EN
METHOD:PUBLISH
X-PUBLISHED-TTL:P3D
REFRESH-INTERVAL:P3D
CALSCALE:GREGORIAN
BEGIN:VEVENT
DTSTART;VALUE=DATE:20110801
DTEND;VALUE=DATE:20110911
TRANSP:TRANSPARENT
X-MICROSOFT-CDO-ALLDAYEVENT:TRUE
SUMMARY:VCB Diaper Drive
DESCRIPTION:Virginia Commerce Bank is sponsoring a diaper drive to help support several local diaper banks in Fairfax and Loudoun Counties.  All local Virginia Commerce Bank branches have drop off boxes.  Check with each branch for hours of operation.
X-ALT-DESC;FMTTYPE=text/html:Virginia Commerce Bank is sponsoring a diaper drive to help support several local diaper banks in Fairfax and Loudoun Counties.&nbsp\; All local Virginia Commerce Bank branches have drop off boxes.&nbsp\; Check with each branch for hours of operation.&nbsp\;
LOCATION:visit www.vcbonline.com for branch locations
UID:e.1250.6
SEQUENCE:3
DTSTAMP:20260423T032513Z
URL:https://business.fallschurchchamber.org/events/details/vcb-diaper-drive-08-01-2011-6
END:VEVENT

END:VCALENDAR
