BEGIN:VCALENDAR
VERSION:2.0
PRODID:-//ChamberMaster//Event Calendar 2.0//EN
METHOD:PUBLISH
X-PUBLISHED-TTL:P3D
REFRESH-INTERVAL:P3D
CALSCALE:GREGORIAN
BEGIN:VEVENT
DTSTART:20111009T170000Z
DTEND:20111009T210000Z
X-MICROSOFT-CDO-ALLDAYEVENT:FALSE
SUMMARY:Veterans Council Picnic
DESCRIPTION:The Greater Falls Church Veterans Council has invited all Chamber members to attend its Cherry Hill picnic on Sun\, Oct. 9 from 1 - 5pm. Awards for Veteran of the Year\, Lifetime Achievement and "Veteran's Best Friend (which is going to our very own Sally Cole) will be presented at 3:30. For more information contact Bob Smith at bobsmithsmail@gmail.com.
X-ALT-DESC;FMTTYPE=text/html:The <strong>Greater Falls Church Veterans Council</strong> has invited all Chamber members to attend its Cherry Hill picnic on <em><strong>Sun\, Oct. 9</strong></em> from 1 - 5pm. Awards for Veteran of the Year\, Lifetime Achievement and &quot\;Veteran&#39\;s Best Friend (<span style="color: #800000"><em><strong>which is going to our very own Sally Cole</strong></em></span>) will be presented at 3:30. For more information contact Bob Smith at <a href="mailto:bobsmithsmail@gmail.com" shape="rect" style="color: #006600\; text-decoration: underline" target="_blank" title="mailto:bobsmithsmail@gmail.com">bobsmithsmail@gmail.com</a>.<span _fck_bookmark="1" style="display: none">&nbsp\;</span>
LOCATION:Cherry Hill Park
UID:e.1250.157
SEQUENCE:3
DTSTAMP:20260423T055506Z
URL:https://business.fallschurchchamber.org/events/details/veterans-council-picnic-10-09-2011-157
END:VEVENT

END:VCALENDAR
