BEGIN:VCALENDAR
VERSION:2.0
PRODID:-//ChamberMaster//Event Calendar 2.0//EN
METHOD:PUBLISH
X-PUBLISHED-TTL:P3D
REFRESH-INTERVAL:P3D
CALSCALE:GREGORIAN
BEGIN:VEVENT
DTSTART;VALUE=DATE:20121111
DTEND;VALUE=DATE:20121112
TRANSP:TRANSPARENT
X-MICROSOFT-CDO-ALLDAYEVENT:TRUE
SUMMARY:Veterans Day
DESCRIPTION:Veterans and Active Duty Military are invited to a free signature entree on Sunday November 11\, 2012 all day.  Our doors open an hour early from 10:00 AM to Midnight!!
X-ALT-DESC;FMTTYPE=text/html:Veterans and Active Duty Military are invited to a free signature entree on Sunday November 11\, 2012 all day.&nbsp\; Our doors open an hour early from 10:00 AM to Midnight!!
LOCATION:Applebee's Falls Church
UID:e.1250.401
SEQUENCE:3
DTSTAMP:20260426T031322Z
URL:https://business.fallschurchchamber.org/events/details/veterans-day-11-11-2012-401
END:VEVENT

END:VCALENDAR
