BEGIN:VCALENDAR
VERSION:2.0
PRODID:-//ChamberMaster//Event Calendar 2.0//EN
METHOD:PUBLISH
X-PUBLISHED-TTL:P3D
REFRESH-INTERVAL:P3D
CALSCALE:GREGORIAN
BEGIN:VEVENT
DTSTART:20121013T160000Z
DTEND:20121013T200000Z
X-MICROSOFT-CDO-ALLDAYEVENT:FALSE
SUMMARY:Veterans Picnic
DESCRIPTION:The Greater Falls Church Veterans Council will hold its second Veterans Picnic on Saturday\, October 13\, 2012 at Madison Park in Falls Church.  Festivities will begin at Noon until 4 pm.  The 2012 "Veteran of the Year" award and the "Veterans Best Friend" award will be presented at 3 pm.  If you are a veteran or a friend of a veteran\, please attend this delightful event.
X-ALT-DESC;FMTTYPE=text/html:<div style="color: gray">\n	<span style="font-size: small">The Greater Falls Church Veterans Council will hold its second Veterans Picnic on Saturday\, October 13\, 2012 at Madison Park in Falls Church.&nbsp\; Festivities will begin at Noon until 4 pm.&nbsp\; The 2012 &ldquo\;Veteran of the Year&rdquo\; award and the &ldquo\;Veterans Best Friend&rdquo\; award will be presented at 3 pm.&nbsp\; If you are a veteran or a friend of a veteran\, please attend this delightful event.</span></div>\n
LOCATION:Madison Park 301 Lawton St. Falls Church
UID:e.1250.314
SEQUENCE:3
DTSTAMP:20260426T030839Z
URL:https://business.fallschurchchamber.org/events/details/veterans-picnic-10-13-2012-314
END:VEVENT

END:VCALENDAR
