BEGIN:VCALENDAR
VERSION:2.0
PRODID:-//ChamberMaster//Event Calendar 2.0//EN
METHOD:PUBLISH
X-PUBLISHED-TTL:P3D
REFRESH-INTERVAL:P3D
CALSCALE:GREGORIAN
BEGIN:VEVENT
DTSTART:20250624T140000Z
DTEND:20250624T160000Z
X-MICROSOFT-CDO-ALLDAYEVENT:FALSE
SUMMARY:Vienna\, VA In-Home Online Auction ***ONLINE ONLY***
DESCRIPTION:QP274 Vienna\, VA In-Home Online Auction\n\nDiscover a curated selection of rare\, unique\, and exquisitely eccentric home goods and decor. This collection includes high-quality items\, with select pieces from notable designer collections. The auction also features a refined assortment of exquisite artwork and a thoughtfully chosen library of art books - perfect for collectors\, creatives\, and enthusiasts alike. A highlight of the auction is an array of extraordinary holiday decorations - featuring rare\, collectible\, and whimsical items from the beloved MC line. These treasures once belonged to an artist with a passion for collecting unusual trinkets and repurposing them into imaginative holiday displays.\n\n\n\nSALE INFO:\n\nJune 24th\, 2025\n\nFirst lot closing at 12:00PM Eastern\n\nOnline Only Auction\n\n25% Buyers Premium\n\nTerms & Conditions can be found by following the link\, in the left hand bar of the sale page.\n\nNo in person inspection available - please email with questions about items\n\nPICKUP INFO:\n\nVienna\, VA\n\nJune 26th 9:40am to 2:00pm\n\nJune 27th 9:40am to 2:00pm\n\nAddress for pickup and appointment signup provided to winners via auction invoice.\n\nPlease bring appropriate assistance for removal. We will not be able to offer assistance.\n\nIf you do not come at your designated pickup time your lots will be forfeited without refund.\n\nNo shipping available for this auction.
X-ALT-DESC;FMTTYPE=text/html:<p><a href="https://quinnsauction.appspot.com/auctions/kkskkIfcjlTvExloyplD/a/QP274-Vienna--VA-In-Home-Auction" style="box-sizing: border-box\; transition: 0.5s\; background-color: transparent\; color: rgb(0\, 0\, 0)\; text-decoration-line: none\; user-select: auto\;"><span style="font-size:18px">QP274 Vienna\, VA In-Home Online Auction</span></a></p>\n\n<p>Discover a curated selection of rare\, unique\, and exquisitely eccentric home goods and decor. This collection includes high-quality items\, with select pieces from notable designer collections. The auction also features a refined assortment of exquisite artwork and a thoughtfully chosen library of art books - perfect for collectors\, creatives\, and enthusiasts alike. A highlight of the auction is an array of extraordinary holiday decorations - featuring rare\, collectible\, and whimsical items from the beloved MC line. These treasures once belonged to an artist with a passion for collecting unusual trinkets and repurposing them into imaginative holiday displays.<br />\n<br />\n<strong>SALE INFO:</strong><br />\nJune 24th\, 2025<br />\nFirst lot closing at 12:00PM Eastern<br />\nOnline Only Auction<br />\n25% Buyers Premium<br />\nTerms &amp\; Conditions can be found by following the link\, in the left hand bar of the sale page.<br />\nNo in person inspection available - please email with questions about items</p>\n\n<p><strong>PICKUP INFO:</strong><br />\nVienna\, VA<br />\nJune 26th 9:40am to 2:00pm<br />\nJune 27th 9:40am to 2:00pm<br />\nAddress for pickup and appointment signup provided to winners via auction invoice.<br />\nPlease bring appropriate assistance for removal. We will not be able to offer assistance.<br />\n<strong>If you do not come at your designated pickup time your lots will be forfeited without refund.</strong><br />\n<strong>No shipping available for this auction.</strong></p>\n
LOCATION:
UID:e.1250.81046
SEQUENCE:3
DTSTAMP:20260420T134216Z
URL:https://business.fallschurchchamber.org/events/details/vienna-va-in-home-online-auction-online-only-06-24-2025-81046
END:VEVENT

END:VCALENDAR
