BEGIN:VCALENDAR
VERSION:2.0
PRODID:-//ChamberMaster//Event Calendar 2.0//EN
METHOD:PUBLISH
X-PUBLISHED-TTL:P3D
REFRESH-INTERVAL:P3D
CALSCALE:GREGORIAN
BEGIN:VEVENT
DTSTART;VALUE=DATE:20120901
DTEND;VALUE=DATE:20121001
TRANSP:TRANSPARENT
X-MICROSOFT-CDO-ALLDAYEVENT:TRUE
SUMMARY:Visiting Artist at Stifel and Capra
DESCRIPTION:Joining us in the Alcove Gallery on the second floor this month is award winning artist Donna Byrne. She has been in 27 exhibits since 2000\, and works primarily with acrylic on canvas. She often paints pieces in a series/collection and is currently working on what she calls her "Floral Abstractions" and "Looking In" series'. Much of her inspiration comes from abstract expressionist artists\, in particular the work of Wassily Kandinsky\, Mark Rothko and Paul Klee. Donna and her artwork are featured in the May/June 2012 issue of ViVa Tyson's magazine. Stop by and visit to see Donna's exhibit of selected paintings. FREE\, open to the public.
X-ALT-DESC;FMTTYPE=text/html:Joining us in the Alcove Gallery on the second floor this month is award winning artist Donna Byrne. She has been in 27 exhibits since 2000\, and works primarily with acrylic on canvas. She often paints pieces in a series/collection and is currently working on what she calls her &ldquo\;Floral Abstractions&rdquo\; and &ldquo\;Looking In&rdquo\; series&rsquo\;. Much of her inspiration comes from abstract expressionist artists\, in particular the work of Wassily Kandinsky\, Mark Rothko and Paul Klee. Donna and her artwork are featured in the May/June 2012 issue of ViVa Tyson&rsquo\;s magazine. Stop by and visit to see Donna&#39\;s exhibit of selected paintings. FREE\, open to the public.
LOCATION:Stifel & Capra 260 W. Broad Street\, Falls Church VA 22046
UID:e.1250.324
SEQUENCE:3
DTSTAMP:20260425T234714Z
URL:https://business.fallschurchchamber.org/events/details/visiting-artist-at-stifel-and-capra-09-01-2012-324
END:VEVENT

END:VCALENDAR
