BEGIN:VCALENDAR
VERSION:2.0
PRODID:-//ChamberMaster//Event Calendar 2.0//EN
METHOD:PUBLISH
X-PUBLISHED-TTL:P3D
REFRESH-INTERVAL:P3D
CALSCALE:GREGORIAN
BEGIN:VEVENT
DTSTART:20121001T140000Z
DTEND:20121031T220000Z
X-MICROSOFT-CDO-ALLDAYEVENT:FALSE
SUMMARY:Visiting Artist at Stifel and Capra
DESCRIPTION:Monday\, October 1 through Wednesday\, October 31\, 2012\n\nOctober Visiting Artist Mary Brophy Marcus\n\nIn the Alcove Studio\, Second Floor at Stifel & Capra\n\n260 W. Broad Street\, Falls Church\, VA 22046\n\n703-533-3557\n\nwww.stifelandcapra.com\n\nHours: Mon-Sat 10am-6pm\, Sun Noon-5pm\n\n\n\nJoining us in the Alcove Gallery on the second floor this month is Mary Brophy Marcus. A Fine Art and English major in college\, Mary now works as a journalist by day and paints at night (while her family sleeps). Her influences are the artists who painted in France in the late 1800s and early 20th century\, street/graffiti art\, folk art from around the world\, and the sea. Stop in and see Mary's wonderful painted furniture and paintings.
X-ALT-DESC;FMTTYPE=text/html:Monday\, October 1 through Wednesday\, October 31\, 2012<br />\nOctober Visiting Artist Mary Brophy Marcus<br />\nIn the Alcove Studio\, Second Floor at Stifel &amp\; Capra<br />\n260 W. Broad Street\, Falls Church\, VA 22046<br />\n703-533-3557<br />\nwww.stifelandcapra.com<br />\nHours: Mon-Sat 10am-6pm\, Sun Noon-5pm<br />\n<br />\nJoining us in the Alcove Gallery on the second floor this month is Mary Brophy Marcus. A Fine Art and English major in college\, Mary now works as a journalist by day and paints at night (while her family sleeps). Her influences are the artists who painted in France in the late 1800s and early 20th century\, street/graffiti art\, folk art from around the world\, and the sea. Stop in and see Mary&#39\;s wonderful painted furniture and paintings.<br />\n
LOCATION:Stifel & Capra
UID:e.1250.360
SEQUENCE:3
DTSTAMP:20260426T012530Z
URL:https://business.fallschurchchamber.org/events/details/visiting-artist-at-stifel-and-capra-10-01-2012-360
END:VEVENT

END:VCALENDAR
